{"text_format":"1","workbook":"xlsx","n_sheets":6,"sheets":["宛名表","12面ラベル印刷","24面ラベル印刷","宛名ﾗﾍﾞﾙ","郵便振替","封筒封筒"],"not_rendered":{"charts":0,"images":0,"macros":1,"external_links":0,"defined_names":3,"comments":0,"pivot_tables":0},"unopened":[],"bounds":{"document_bytes":16777216,"sheet_cells":100000,"rows_first":2000,"rows_last":500,"rows_between":2000,"halvings":0,"cell_chars":16384,"cell_head_chars":4096},"cells_cut":0,"cells_raw":0,"read":"whole","date_system":"1900"}

{"sheet":"宛名表","index":0,"n_rows":131,"n_cols":8,"rows_kept":131,"cut":false,"hidden":false,"merged":[]}
[]
[null,"CD","名前","住所1","住所2","郵便番号","電話番号","敬称"]
[null,1,"加藤　純也","青森市大字石江字岡部33-42",null,"030-0003","0177-66-7824","様"]
[null,2,"牧石　正行","青森市大野前田76-66",null,"030-0852","0177-39-3942","様"]
[null,3,"長尾　博之","青森市新田二丁目22-8",null,"038-0001","0177-81-6370","様"]
[null,4,"辻村　潔","東津軽郡平内町福館雷電林1-14",null,"039-3311","0177-55-3472","様"]
[null,5,"江川　寿之","弘前市富野町18-23",null,"036-8174","0172-33-3881","様"]
[null,6,"森下　敏明","弘前市大字松ヶ枝二丁目5-4",null,"036-8042","0172-27-6822","様"]
[null,7,"押上　与八","黒石市株梗木横丁27",null,"036-0303","0172-52-2918","様"]
[null,8,"高橋　由美子","五所川原市松島町四丁目12",null,"037-0006","0173-35-2339","様"]
[null,9,"台丸谷　光雄","弘前市大字十面沢字轡93-4",null,"036-1202","0172-93-3023","様"]
[null,10,"荒井  時","五所川原市広田柳沼39",null,"037-0023","0173-35-7660","様"]
[null,11,"石森　茂春","つがる市木造町増田17-28",null,"038-3155","0173-42-2139","様"]
[null,12,"片山　秀光","つがる市稲垣町豊川初瀬63-15",null,"037-0104","0173-46-2034","様"]
[null,13,"河合　富夫","十和田市東一番町12-12",null,"034-0012","0176-22-1564","様"]
[null,14,"佐武薬品","三沢市松園町二丁目7-4",null,"033-0037","0176-52-5075","様"]
[null,15,"四十物　隆之","上北郡野辺地町野辺地269-1",null,"039-3131","0175-64-2735","様"]
[null,16,"樋口　純二","八戸市城下一丁目25-13",null,"031-0072","0178-22-9466","様"]
[null,17,"藤田　信義","三戸郡名川町斗賀上平5-2",null,"039-0611","0178-75-0868","様"]
[null,18,"江川　千鶴子","弘前市富野町18-23",null,"036-8174","0172-33-3881","様"]
[null,19,"佐々木　繁幸","つがる市木造曙11-3",null,"038-3144","0173-56-4155","様"]
[null,20,"佐々木　光司","つがる市車力町花林37",null,"038-3303","0173-56-4155","様"]
[null,21,"山本　寛男","青森市浜田玉川243-17",null,"030-0843","017-729-8224","様"]
[null,22,"高田　忠秋","八戸市下長四丁目14-6A",null,"039-1164",null,"様"]
[null,23,"㈱Aｺｰﾌﾟ北東北 青森支店","青森市上野字有原27-2",null,"030-0141","017-729-3132","御中"]
[null,24,"ﾎﾞﾆｰ薬品㈱","弘前市大字城東一丁目10-14",null,"036-8095","0172-27-8062","御中"]
[null,25,"㈱大心中井薬品","弘前市大字宮川一丁目2-10",null,"036-8051","0172-35-0005","御中"]
[null,26,"東北ｽﾊﾟｰｸ薬品㈱","五所川原市鎌谷町524-19",null,"037-0016","0173-35-1745","御中"]
[null,27,"㈲孝文堂","上北郡東北町上北北二丁目33-109",null,"039-2401","0176-56-5561","御中"]
[null,28,"㈲関原薬品","青森市大字後潟字平野61-3",null,"030-1262","0177-54-3144","御中"]
[null,29,"㈲高島進盛堂薬品","むつ市上川町7-4",null,"035-0032","0175-22-8023","御中"]
[null,30,"ﾏｷﾉ薬品㈱　","弘前市城東中央五丁目4-3",null,"036-8093","0172-27-0115","御中"]
[null,31,"佐々木博盛堂　","むつ市みどり町18-55",null,"035-0053","0175-22-1677","御中"]
[null,32,"㈱SKG","弘前市大字取上二丁目3-14",null,"036-8171","0172-34-8660","御中"]
[null,33,"三洋薬品株式会社","八戸市青葉1-9-36",null,"039-1164","0178-29-3489","御中"]
[null,34,"水口　章","富山市水橋辻ｹ堂2028番地",null,"939-3515","0764-78-2315","様"]
[null,35,"㈲上田資生堂","富山市水橋館町411番地",null,"939-0526","0764-78-0561","御中"]
[null,36,"竹内　彰一","新湊市七美中野94番地",null,"933-0253","0766-86-1451","様"]
[null,37,"坂下　端","富山市水橋館町212番地の9",null,"939-0526","0764-79-0857","様"]
[null,38,"堀　豊治","射水郡大門町水戸田902番地",null,"939-0401","0766-53-1443","様"]
[null,39,"岩口　寛","新湊市七美95番地",null,"933-0252","0766-86-2567","様"]
[null,40,"堂口　信治","富山市水橋辻ｹ堂1700番地",null,"939-3515","0764-78-1050","様"]
[null,41,"伊井　繁盛","富山市水橋柳寺80番地",null,"939-0536","0764-78-0436","様"]
[null,42,"山本　喜代次","中新川郡上市町北島88番地",null,"930-0351","0764-72-3934","様"]
[null,43,"大門　和平","滑川市上小泉1675番地の3",null,"936-0053","0764-75-1774","様"]
[null,44,"森　忠夫","富山市水橋中出町934番地",null,"939-0513","0764-78-1235","様"]
[null,45,"上田　恭子","富山市上赤江町2-11-32-502",null,"930-0816","090-2919-6385","様"]
[null,46,"㈱かねもり薬品 二戸営業所","二戸市石切所台中平60-1",null,"028-6103","0195-25-4920","御中"]
[null,47,"永井  利憲","葛城市新庄121番地",null,"639-2147","0745-69-2966","様"]
[null,48,"森川  雅朗","高市郡高取町与楽143番地",null,"605-0141","0644-52-3413","様"]
[null,49,"保田　優","米子市永江240 県営住宅50-2",null,"683-0014","0859-26-3197","様"]
[null,50,"上田　平次","大阪市東成区東小橋2丁目4-10",null,"537‐0024","06-971-5629","様"]
[null,51,"武村　英人","函館市亀田本町20番地17",null,"041-0813","0138-42-0755","様"]
[null,52,"梶原　孝夫","宮古市太田一丁目8番地36",null,"027-0054","0193-63-5246","様"]
[null,53,"㈲雪の元","函館市美原町一丁目20-7",null,"041-0841","0138-62-6113","御中"]
[null,54,"㈱三光丸","御所市今住700-1",null,"639-2245","","御中"]
[null,55,"水口　輝夫","大館宮市幸町16番地16",null,"017-0847","0186-42-3678","様"]
[null,56]
[null,57]
[null,58]
[null,59]
[null,60]
[null,61]
[null,62]
[null,63]
[null,64]
[null,65]
[null,66]
[null,67]
[null,68]
[null,69]
[null,70]
[null,71]
[null,72]
[null,73]
[null,74]
[null,75]
[null,76]
[null,77]
[null,78]
[null,79]
[null,80]
[null,81]
[null,82]
[null,83]
[null,84]
[null,85]
[null,86]
[null,87]
[null,88]
[null,89]
[null,90]
[null,91]
[null,92]
[null,93]
[null,94]
[null,95]
[null,96]
[null,97]
[null,98]
[null,99]
[null,100]
[null,101]
[null,102]
[null,103]
[null,104]
[null,105]
[null,106]
[null,107]
[null,108]
[null,109]
[null,110]
[null,111]
[null,112]
[null,113]
[null,114]
[null,115]
[null,116]
[null,117]
[null,118]
[null,119]
[null,120]
[null,121]
[null,122]
[null,123]
[null,124]
[null,125]
[null,126]
[null,127]
[null,128]
[null,129]

{"sheet":"12面ラベル印刷","index":1,"n_rows":340,"n_cols":12,"rows_kept":340,"cut":false,"hidden":false,"merged":[[337,1,337,4],[337,8,337,11],[339,1,340,3],[339,4,340,5],[339,8,340,10],[339,11,340,12],[328,1,328,4],[328,8,328,11],[329,1,329,4],[329,8,329,11],[331,1,332,3],[331,4,332,5],[331,8,332,10],[331,11,332,12],[336,1,336,4],[336,8,336,11],[315,1,316,3],[315,4,316,5],[315,8,316,10],[315,11,316,12],[320,1,320,4],[320,8,320,11],[321,1,321,4],[321,8,321,11],[323,1,324,3],[323,4,324,5],[323,8,324,10],[323,11,324,12],[305,1,305,4],[305,8,305,11],[307,1,308,3],[307,4,308,5],[307,8,308,10],[307,11,308,12],[312,1,312,4],[312,8,312,11],[313,1,313,4],[313,8,313,11],[296,1,296,4],[296,8,296,11],[297,1,297,4],[297,8,297,11],[299,1,300,3],[299,4,300,5],[299,8,300,10],[299,11,300,12],[304,1,304,4],[304,8,304,11],[282,1,283,3],[282,4,283,5],[282,8,283,10],[282,11,283,12],[287,1,287,4],[287,8,287,11],[288,1,288,4],[288,8,288,11],[290,1,291,3],[290,4,291,5],[290,8,291,10],[290,11,291,12],[272,1,272,4],[272,8,272,11],[274,1,275,3],[274,4,275,5],[274,8,275,10],[274,11,275,12],[279,1,279,4],[279,8,279,11],[280,1,280,4],[280,8,280,11],[263,1,263,4],[263,8,263,11],[264,1,264,4],[264,8,264,11],[266,1,267,3],[266,4,267,5],[266,8,267,10],[266,11,267,12],[271,1,271,4],[271,8,271,11],[250,1,251,3],[250,4,251,5],[250,8,251,10],[250,11,251,12],[255,1,255,4],[255,8,255,11],[256,1,256,4],[256,8,256,11],[258,1,259,3],[258,4,259,5],[258,8,259,10],[258,11,259,12],[239,1,239,4],[239,8,239,11],[241,1,242,3],[241,4,242,5],[241,8,242,10],[241,11,242,12],[247,1,247,4],[247,8,247,11],[248,1,248,4],[248,8,248,11],[230,1,230,4],[230,8,230,11],[231,1,231,4],[231,8,231,11],[233,1,234,3],[233,4,234,5],[233,8,234,10],[233,11,234,12],[238,1,238,4],[238,8,238,11],[217,1,218,3],[217,4,218,5],[217,8,218,10],[217,11,218,12],[222,1,222,4],[222,8,222,11],[223,1,223,4],[223,8,223,11],[225,1,226,3],[225,4,226,5],[225,8,226,10],[225,11,226,12],[207,1,207,4],[207,8,207,11],[209,1,210,3],[209,4,210,5],[209,8,210,10],[209,11,210,12],[214,1,214,4],[214,8,214,11],[215,1,215,4],[215,8,215,11],[198,1,198,4],[198,8,198,11],[199,1,199,4],[199,8,199,11],[201,1,202,3],[201,4,202,5],[201,8,202,10],[201,11,202,12],[206,1,206,4],[206,8,206,11],[189,1,189,4],[189,8,189,11],[190,1,190,4],[190,8,190,11],[192,1,193,3],[192,4,193,5],[192,8,193,10],[192,11,193,12],[181,1,181,4],[181,8,181,11],[182,1,182,4],[182,8,182,11],[184,1,185,3],[184,4,185,5],[184,8,185,10],[184,11,185,12],[173,1,173,4],[173,8,173,11],[174,1,174,4],[174,8,174,11],[176,1,177,3],[176,4,177,5],[176,8,177,10],[176,11,177,12],[165,1,165,4],[165,8,165,11],[166,1,166,4],[166,8,166,11],[168,1,169,3],[168,4,169,5],[168,8,169,10],[168,11,169,12],[157,1,157,4],[157,8,157,11],[158,1,158,4],[158,8,158,11],[160,1,161,3],[160,4,161,5],[160,8,161,10],[160,11,161,12],[149,1,149,4],[149,8,149,11],[150,1,150,4],[150,8,150,11],[152,1,153,3],[152,4,153,5],[152,8,153,10],[152,11,153,12],[141,1,141,4],[141,8,141,11],[143,1,144,3],[143,4,144,5],[143,8,144,10],[143,11,144,12],[135,1,136,3],[135,4,136,5],[135,8,136,10],[135,11,136,12],[140,1,140,4],[140,8,140,11],[127,8,128,10],[127,11,128,12],[132,1,132,4],[132,8,132,11],[133,1,133,4],[133,8,133,11],[116,1,116,4],[116,8,116,11],[119,1,120,3],[119,4,120,5],[119,8,120,10],[119,11,120,12],[125,1,125,4],[125,8,125,11],[127,1,128,3],[127,4,128,5],[108,1,108,4],[108,8,108,11],[109,1,109,4],[109,8,109,11],[111,1,112,3],[111,4,112,5],[111,8,112,10],[111,11,112,12],[100,1,100,4],[100,8,100,11],[101,1,101,4],[101,8,101,11],[103,1,104,3],[103,4,104,5],[103,8,104,10],[103,11,104,12],[92,1,92,4],[92,8,92,11],[94,1,95,3],[94,4,95,5],[94,8,95,10],[94,11,95,12],[84,1,84,4],[84,8,84,11],[86,1,87,3],[86,4,87,5],[86,8,87,10],[86,11,87,12],[70,8,71,10],[70,11,71,12],[76,1,76,4],[76,8,76,11],[78,1,79,3],[78,4,79,5],[78,8,79,10],[78,11,79,12],[59,1,59,4],[59,8,59,11],[62,1,63,3],[62,4,63,5],[62,8,63,10],[62,11,63,12],[60,1,60,4],[60,8,60,11],[52,1,52,4],[52,8,52,11],[54,1,55,3],[54,4,55,5],[54,8,55,10],[54,11,55,12],[42,1,42,4],[42,8,42,11],[43,1,43,4],[43,8,43,11],[45,1,46,3],[45,4,46,5],[45,8,46,10],[45,11,46,12],[27,1,27,4],[27,8,27,11],[29,1,30,3],[29,4,30,5],[29,8,30,10],[29,11,30,12],[34,1,34,4],[34,8,34,11],[51,1,51,4],[51,8,51,11],[21,8,22,10],[21,11,22,12],[124,1,124,4],[124,8,124,11],[117,1,117,4],[117,8,117,11],[91,1,91,4],[91,8,91,11],[83,1,83,4],[83,8,83,11],[75,1,75,4],[75,8,75,11],[67,1,67,4],[67,8,67,11],[68,1,68,4],[68,8,68,11],[70,1,71,3],[70,4,71,5],[35,1,35,4],[35,8,35,11],[37,1,38,3],[37,4,38,5],[37,8,38,10],[37,11,38,12],[2,1,2,4],[2,8,2,11],[3,1,3,4],[3,8,3,11],[5,1,6,3],[5,4,6,5],[5,8,6,10],[5,11,6,12],[26,1,26,4],[26,8,26,11],[18,1,18,4],[18,8,18,11],[10,1,10,4],[10,8,10,11],[11,1,11,4],[11,8,11,11],[13,1,14,3],[13,4,14,5],[13,8,14,10],[13,11,14,12],[19,1,19,4],[19,8,19,11],[21,1,22,3],[21,4,22,5]]}
[1,null,null,null,null,null,null,7]
[null,{"$f":"IF(C2=0,\"\",\"〒\")","v":"〒"},{"$f":"VLOOKUP(A1,宛名表!$B$3:$H$131,5,0)","v":"030-0003"},null,null,null,null,null,{"$f":"IF(J2=0,\"\",\"〒\")","v":"〒"},{"$f":"VLOOKUP(H1,宛名表!$B$3:$H$131,5,0)","v":"036-0303"}]
[null,{"$f":"VLOOKUP(A1,宛名表!$B$3:$H$131,3,0)","v":"青森市大字石江字岡部33-42"},null,null,null,null,null,null,{"$f":"VLOOKUP(H1,宛名表!$B$3:$H$131,3,0)","v":"黒石市株梗木横丁27"}]
[null,{"$f":"VLOOKUP(A1,宛名表!$B$3:$H$131,4,0)","v":0},null,null,null,null,null,null,{"$f":"VLOOKUP(H1,宛名表!$B$3:$H$131,4,0)","v":0}]
[]
[null,{"$f":"VLOOKUP(A1,宛名表!$B$3:$H$131,2,0)","v":"加藤　純也"},null,null,{"$f":"VLOOKUP(A1,宛名表!$B$3:$H$131,7,0)","v":"様"},null,null,null,{"$f":"VLOOKUP(H1,宛名表!$B$3:$H$131,2,0)","v":"押上　与八"},null,null,{"$f":"VLOOKUP(H1,宛名表!$B$3:$H$131,7,0)","v":"様"}]
[]
[]
[2,null,null,null,null,null,null,8]
[null,{"$f":"IF(C10=0,\"\",\"〒\")","v":"〒"},{"$f":"VLOOKUP(A9,宛名表!$B$3:$H$131,5,0)","v":"030-0852"},null,null,null,null,null,{"$f":"IF(J10=0,\"\",\"〒\")","v":"〒"},{"$f":"VLOOKUP(H9,宛名表!$B$3:$H$131,5,0)","v":"037-0006"}]
[null,{"$f":"VLOOKUP(A9,宛名表!$B$3:$H$131,3,0)","v":"青森市大野前田76-66"},null,null,null,null,null,null,{"$f":"VLOOKUP(H9,宛名表!$B$3:$H$131,3,0)","v":"五所川原市松島町四丁目12"}]
[null,{"$f":"VLOOKUP(A9,宛名表!$B$3:$H$131,4,0)","v":0},null,null,null,null,null,null,{"$f":"VLOOKUP(H9,宛名表!$B$3:$H$131,4,0)","v":0}]
[]
[null,{"$f":"VLOOKUP(A9,宛名表!$B$3:$H$131,2,0)","v":"牧石　正行"},null,null,{"$f":"VLOOKUP(A9,宛名表!$B$3:$H$131,7,0)","v":"様"},null,null,null,{"$f":"VLOOKUP(H9,宛名表!$B$3:$H$131,2,0)","v":"高橋　由美子"},null,null,{"$f":"VLOOKUP(H9,宛名表!$B$3:$H$131,7,0)","v":"様"}]
[]
[]
[3,null,null,null,null,null,null,9]
[null,{"$f":"IF(C18=0,\"\",\"〒\")","v":"〒"},{"$f":"VLOOKUP(A17,宛名表!$B$3:$H$131,5,0)","v":"038-0001"},null,null,null,null,null,{"$f":"IF(J18=0,\"\",\"〒\")","v":"〒"},{"$f":"VLOOKUP(H17,宛名表!$B$3:$H$131,5,0)","v":"036-1202"}]
[null,{"$f":"VLOOKUP(A17,宛名表!$B$3:$H$131,3,0)","v":"青森市新田二丁目22-8"},null,null,null,null,null,null,{"$f":"VLOOKUP(H17,宛名表!$B$3:$H$131,3,0)","v":"弘前市大字十面沢字轡93-4"}]
[null,{"$f":"VLOOKUP(A17,宛名表!$B$3:$H$131,4,0)","v":0},null,null,null,null,null,null,{"$f":"VLOOKUP(H17,宛名表!$B$3:$H$131,4,0)","v":0}]
[]
[null,{"$f":"VLOOKUP(A17,宛名表!$B$3:$H$131,2,0)","v":"長尾　博之"},null,null,{"$f":"VLOOKUP(A17,宛名表!$B$3:$H$131,7,0)","v":"様"},null,null,null,{"$f":"VLOOKUP(H17,宛名表!$B$3:$H$131,2,0)","v":"台丸谷　光雄"},null,null,{"$f":"VLOOKUP(H17,宛名表!$B$3:$H$131,7,0)","v":"様"}]
[]
[]
[4,null,null,null,null,null,null,10]
[null,{"$f":"IF(C26=0,\"\",\"〒\")","v":"〒"},{"$f":"VLOOKUP(A25,宛名表!$B$3:$H$131,5,0)","v":"039-3311"},null,null,null,null,null,{"$f":"IF(J26=0,\"\",\"〒\")","v":"〒"},{"$f":"VLOOKUP(H25,宛名表!$B$3:$H$131,5,0)","v":"037-0023"}]
[null,{"$f":"VLOOKUP(A25,宛名表!$B$3:$H$131,3,0)","v":"東津軽郡平内町福館雷電林1-14"},null,null,null,null,null,null,{"$f":"VLOOKUP(H25,宛名表!$B$3:$H$131,3,0)","v":"五所川原市広田柳沼39"}]
[null,{"$f":"VLOOKUP(A25,宛名表!$B$3:$H$131,4,0)","v":0},null,null,null,null,null,null,{"$f":"VLOOKUP(H25,宛名表!$B$3:$H$131,4,0)","v":0}]
[]
[null,{"$f":"VLOOKUP(A25,宛名表!$B$3:$H$131,2,0)","v":"辻村　潔"},null,null,{"$f":"VLOOKUP(A25,宛名表!$B$3:$H$131,7,0)","v":"様"},null,null,null,{"$f":"VLOOKUP(H25,宛名表!$B$3:$H$131,2,0)","v":"荒井  時"},null,null,{"$f":"VLOOKUP(H25,宛名表!$B$3:$H$131,7,0)","v":"様"}]
[]
[]
[5,null,null,null,null,null,null,11]
[null,{"$f":"IF(C34=0,\"\",\"〒\")","v":"〒"},{"$f":"VLOOKUP(A33,宛名表!$B$3:$H$131,5,0)","v":"036-8174"},null,null,null,null,null,{"$f":"IF(J34=0,\"\",\"〒\")","v":"〒"},{"$f":"VLOOKUP(H33,宛名表!$B$3:$H$131,5,0)","v":"038-3155"}]
[null,{"$f":"VLOOKUP(A33,宛名表!$B$3:$H$131,3,0)","v":"弘前市富野町18-23"},null,null,null,null,null,null,{"$f":"VLOOKUP(H33,宛名表!$B$3:$H$131,3,0)","v":"つがる市木造町増田17-28"}]
[null,{"$f":"VLOOKUP(A33,宛名表!$B$3:$H$131,4,0)","v":0},null,null,null,null,null,null,{"$f":"VLOOKUP(H33,宛名表!$B$3:$H$131,4,0)","v":0}]
[]
[null,{"$f":"VLOOKUP(A33,宛名表!$B$3:$H$131,2,0)","v":"江川　寿之"},null,null,{"$f":"VLOOKUP(A33,宛名表!$B$3:$H$131,7,0)","v":"様"},null,null,null,{"$f":"VLOOKUP(H33,宛名表!$B$3:$H$131,2,0)","v":"石森　茂春"},null,null,{"$f":"VLOOKUP(H33,宛名表!$B$3:$H$131,7,0)","v":"様"}]
[]
[]
[6,null,null,null,null,null,null,12]
[null,{"$f":"IF(C42=0,\"\",\"〒\")","v":"〒"},{"$f":"VLOOKUP(A41,宛名表!$B$3:$H$131,5,0)","v":"036-8042"},null,null,null,null,null,{"$f":"IF(J42=0,\"\",\"〒\")","v":"〒"},{"$f":"VLOOKUP(H41,宛名表!$B$3:$H$131,5,0)","v":"037-0104"}]
[null,{"$f":"VLOOKUP(A41,宛名表!$B$3:$H$131,3,0)","v":"弘前市大字松ヶ枝二丁目5-4"},null,null,null,null,null,null,{"$f":"VLOOKUP(H41,宛名表!$B$3:$H$131,3,0)","v":"つがる市稲垣町豊川初瀬63-15"}]
[null,{"$f":"VLOOKUP(A41,宛名表!$B$3:$H$131,4,0)","v":0},null,null,null,null,null,null,{"$f":"VLOOKUP(H41,宛名表!$B$3:$H$131,4,0)","v":0}]
[]
[null,{"$f":"VLOOKUP(A41,宛名表!$B$3:$H$131,2,0)","v":"森下　敏明"},null,null,{"$f":"VLOOKUP(A41,宛名表!$B$3:$H$131,7,0)","v":"様"},null,null,null,{"$f":"VLOOKUP(H41,宛名表!$B$3:$H$131,2,0)","v":"片山　秀光"},null,null,{"$f":"VLOOKUP(H41,宛名表!$B$3:$H$131,7,0)","v":"様"}]
[]
[]
[]
[13,null,null,null,null,null,null,19]
[null,{"$f":"IF(C51=0,\"\",\"〒\")","v":"〒"},{"$f":"VLOOKUP(A50,宛名表!$B$3:$H$131,5,0)","v":"034-0012"},null,null,null,null,null,{"$f":"IF(J51=0,\"\",\"〒\")","v":"〒"},{"$f":"VLOOKUP(H50,宛名表!$B$3:$H$131,5,0)","v":"038-3144"}]
[null,{"$f":"VLOOKUP(A50,宛名表!$B$3:$H$131,3,0)","v":"十和田市東一番町12-12"},null,null,null,null,null,null,{"$f":"VLOOKUP(H50,宛名表!$B$3:$H$131,3,0)","v":"つがる市木造曙11-3"}]
[null,{"$f":"VLOOKUP(A50,宛名表!$B$3:$H$131,4,0)","v":0},null,null,null,null,null,null,{"$f":"VLOOKUP(H50,宛名表!$B$3:$H$131,4,0)","v":0}]
[]
[null,{"$f":"VLOOKUP(A50,宛名表!$B$3:$H$131,2,0)","v":"河合　富夫"},null,null,{"$f":"VLOOKUP(A50,宛名表!$B$3:$H$131,7,0)","v":"様"},null,null,null,{"$f":"VLOOKUP(H50,宛名表!$B$3:$H$131,2,0)","v":"佐々木　繁幸"},null,null,{"$f":"VLOOKUP(H50,宛名表!$B$3:$H$131,7,0)","v":"様"}]
[]
[]
[14,null,null,null,null,null,null,20]
[null,{"$f":"IF(C59=0,\"\",\"〒\")","v":"〒"},{"$f":"VLOOKUP(A58,宛名表!$B$3:$H$131,5,0)","v":"033-0037"},null,null,null,null,null,{"$f":"IF(J59=0,\"\",\"〒\")","v":"〒"},{"$f":"VLOOKUP(H58,宛名表!$B$3:$H$131,5,0)","v":"038-3303"}]
[null,{"$f":"VLOOKUP(A58,宛名表!$B$3:$H$131,3,0)","v":"三沢市松園町二丁目7-4"},null,null,null,null,null,null,{"$f":"VLOOKUP(H58,宛名表!$B$3:$H$131,3,0)","v":"つがる市車力町花林37"}]
[null,{"$f":"VLOOKUP(A58,宛名表!$B$3:$H$131,4,0)","v":0},null,null,null,null,null,null,{"$f":"VLOOKUP(H58,宛名表!$B$3:$H$131,4,0)","v":0}]
[]
[null,{"$f":"VLOOKUP(A58,宛名表!$B$3:$H$131,2,0)","v":"佐武薬品"},null,null,{"$f":"VLOOKUP(A58,宛名表!$B$3:$H$131,7,0)","v":"様"},null,null,null,{"$f":"VLOOKUP(H58,宛名表!$B$3:$H$131,2,0)","v":"佐々木　光司"},null,null,{"$f":"VLOOKUP(H58,宛名表!$B$3:$H$131,7,0)","v":"様"}]
[]
[]
[15,null,null,null,null,null,null,21]
[null,{"$f":"IF(C67=0,\"\",\"〒\")","v":"〒"},{"$f":"VLOOKUP(A66,宛名表!$B$3:$H$131,5,0)","v":"039-3131"},null,null,null,null,null,{"$f":"IF(J67=0,\"\",\"〒\")","v":"〒"},{"$f":"VLOOKUP(H66,宛名表!$B$3:$H$131,5,0)","v":"030-0843"}]
[null,{"$f":"VLOOKUP(A66,宛名表!$B$3:$H$131,3,0)","v":"上北郡野辺地町野辺地269-1"},null,null,null,null,null,null,{"$f":"VLOOKUP(H66,宛名表!$B$3:$H$131,3,0)","v":"青森市浜田玉川243-17"}]
[null,{"$f":"VLOOKUP(A66,宛名表!$B$3:$H$131,4,0)","v":0},null,null,null,null,null,null,{"$f":"VLOOKUP(H66,宛名表!$B$3:$H$131,4,0)","v":0}]
[]
[null,{"$f":"VLOOKUP(A66,宛名表!$B$3:$H$131,2,0)","v":"四十物　隆之"},null,null,{"$f":"VLOOKUP(A66,宛名表!$B$3:$H$131,7,0)","v":"様"},null,null,null,{"$f":"VLOOKUP(H66,宛名表!$B$3:$H$131,2,0)","v":"山本　寛男"},null,null,{"$f":"VLOOKUP(H66,宛名表!$B$3:$H$131,7,0)","v":"様"}]
[]
[]
[16,null,null,null,null,null,null,22]
[null,{"$f":"IF(C75=0,\"\",\"〒\")","v":"〒"},{"$f":"VLOOKUP(A74,宛名表!$B$3:$H$131,5,0)","v":"031-0072"},null,null,null,null,null,{"$f":"IF(J75=0,\"\",\"〒\")","v":"〒"},{"$f":"VLOOKUP(H74,宛名表!$B$3:$H$131,5,0)","v":"039-1164"}]
[null,{"$f":"VLOOKUP(A74,宛名表!$B$3:$H$131,3,0)","v":"八戸市城下一丁目25-13"},null,null,null,null,null,null,{"$f":"VLOOKUP(H74,宛名表!$B$3:$H$131,3,0)","v":"八戸市下長四丁目14-6A"}]
[null,{"$f":"VLOOKUP(A74,宛名表!$B$3:$H$131,4,0)","v":0},null,null,null,null,null,null,{"$f":"VLOOKUP(H74,宛名表!$B$3:$H$131,4,0)","v":0}]
[]
[null,{"$f":"VLOOKUP(A74,宛名表!$B$3:$H$131,2,0)","v":"樋口　純二"},null,null,{"$f":"VLOOKUP(A74,宛名表!$B$3:$H$131,7,0)","v":"様"},null,null,null,{"$f":"VLOOKUP(H74,宛名表!$B$3:$H$131,2,0)","v":"高田　忠秋"},null,null,{"$f":"VLOOKUP(H74,宛名表!$B$3:$H$131,7,0)","v":"様"}]
[]
[]
[17,null,null,null,null,null,null,23]
[null,{"$f":"IF(C83=0,\"\",\"〒\")","v":"〒"},{"$f":"VLOOKUP(A82,宛名表!$B$3:$H$131,5,0)","v":"039-0611"},null,null,null,null,null,{"$f":"IF(J83=0,\"\",\"〒\")","v":"〒"},{"$f":"VLOOKUP(H82,宛名表!$B$3:$H$131,5,0)","v":"030-0141"}]
[null,{"$f":"VLOOKUP(A82,宛名表!$B$3:$H$131,3,0)","v":"三戸郡名川町斗賀上平5-2"},null,null,null,null,null,null,{"$f":"VLOOKUP(H82,宛名表!$B$3:$H$131,3,0)","v":"青森市上野字有原27-2"}]
[null,{"$f":"VLOOKUP(A82,宛名表!$B$3:$H$131,4,0)","v":0},null,null,null,null,null,null,{"$f":"VLOOKUP(H82,宛名表!$B$3:$H$131,4,0)","v":0}]
[]
[null,{"$f":"VLOOKUP(A82,宛名表!$B$3:$H$131,2,0)","v":"藤田　信義"},null,null,{"$f":"VLOOKUP(A82,宛名表!$B$3:$H$131,7,0)","v":"様"},null,null,null,{"$f":"VLOOKUP(H82,宛名表!$B$3:$H$131,2,0)","v":"㈱Aｺｰﾌﾟ北東北 青森支店"},null,null,{"$f":"VLOOKUP(H82,宛名表!$B$3:$H$131,7,0)","v":"御中"}]
[]
[]
[18,null,null,null,null,null,null,24]
[null,{"$f":"IF(C91=0,\"\",\"〒\")","v":"〒"},{"$f":"VLOOKUP(A90,宛名表!$B$3:$H$131,5,0)","v":"036-8174"},null,null,null,null,null,{"$f":"IF(J91=0,\"\",\"〒\")","v":"〒"},{"$f":"VLOOKUP(H90,宛名表!$B$3:$H$131,5,0)","v":"036-8095"}]
[null,{"$f":"VLOOKUP(A90,宛名表!$B$3:$H$131,3,0)","v":"弘前市富野町18-23"},null,null,null,null,null,null,{"$f":"VLOOKUP(H90,宛名表!$B$3:$H$131,3,0)","v":"弘前市大字城東一丁目10-14"}]
[null,{"$f":"VLOOKUP(A90,宛名表!$B$3:$H$131,4,0)","v":0},null,null,null,null,null,null,{"$f":"VLOOKUP(H90,宛名表!$B$3:$H$131,4,0)","v":0}]
[]
[null,{"$f":"VLOOKUP(A90,宛名表!$B$3:$H$131,2,0)","v":"江川　千鶴子"},null,null,{"$f":"VLOOKUP(A90,宛名表!$B$3:$H$131,7,0)","v":"様"},null,null,null,{"$f":"VLOOKUP(H90,宛名表!$B$3:$H$131,2,0)","v":"ﾎﾞﾆｰ薬品㈱"},null,null,{"$f":"VLOOKUP(H90,宛名表!$B$3:$H$131,7,0)","v":"御中"}]
[]
[]
[]
[25,null,null,null,null,null,null,31]
[null,{"$f":"IF(C100=0,\"\",\"〒\")","v":"〒"},{"$f":"VLOOKUP(A99,宛名表!$B$3:$H$131,5,0)","v":"036-8051"},null,null,null,null,null,{"$f":"IF(J100=0,\"\",\"〒\")","v":"〒"},{"$f":"VLOOKUP(H99,宛名表!$B$3:$H$131,5,0)","v":"035-0053"}]
[null,{"$f":"VLOOKUP(A99,宛名表!$B$3:$H$131,3,0)","v":"弘前市大字宮川一丁目2-10"},null,null,null,null,null,null,{"$f":"VLOOKUP(H99,宛名表!$B$3:$H$131,3,0)","v":"むつ市みどり町18-55"}]
[null,{"$f":"VLOOKUP(A99,宛名表!$B$3:$H$131,4,0)","v":0},null,null,null,null,null,null,{"$f":"VLOOKUP(H99,宛名表!$B$3:$H$131,4,0)","v":0}]
[]
[null,{"$f":"VLOOKUP(A99,宛名表!$B$3:$H$131,2,0)","v":"㈱大心中井薬品"},null,null,{"$f":"VLOOKUP(A99,宛名表!$B$3:$H$131,7,0)","v":"御中"},null,null,null,{"$f":"VLOOKUP(H99,宛名表!$B$3:$H$131,2,0)","v":"佐々木博盛堂　"},null,null,{"$f":"VLOOKUP(H99,宛名表!$B$3:$H$131,7,0)","v":"御中"}]
[]
[]
[26,null,null,null,null,null,null,32]
[null,{"$f":"IF(C108=0,\"\",\"〒\")","v":"〒"},{"$f":"VLOOKUP(A107,宛名表!$B$3:$H$131,5,0)","v":"037-0016"},null,null,null,null,null,{"$f":"IF(J108=0,\"\",\"〒\")","v":"〒"},{"$f":"VLOOKUP(H107,宛名表!$B$3:$H$131,5,0)","v":"036-8171"}]
[null,{"$f":"VLOOKUP(A107,宛名表!$B$3:$H$131,3,0)","v":"五所川原市鎌谷町524-19"},null,null,null,null,null,null,{"$f":"VLOOKUP(H107,宛名表!$B$3:$H$131,3,0)","v":"弘前市大字取上二丁目3-14"}]
[null,{"$f":"VLOOKUP(A107,宛名表!$B$3:$H$131,4,0)","v":0},null,null,null,null,null,null,{"$f":"VLOOKUP(H107,宛名表!$B$3:$H$131,4,0)","v":0}]
[]
[null,{"$f":"VLOOKUP(A107,宛名表!$B$3:$H$131,2,0)","v":"東北ｽﾊﾟｰｸ薬品㈱"},null,null,{"$f":"VLOOKUP(A107,宛名表!$B$3:$H$131,7,0)","v":"御中"},null,null,null,{"$f":"VLOOKUP(H107,宛名表!$B$3:$H$131,2,0)","v":"㈱SKG"},null,null,{"$f":"VLOOKUP(H107,宛名表!$B$3:$H$131,7,0)","v":"御中"}]
[]
[]
[27,null,null,null,null,null,null,33]
[null,{"$f":"IF(C116=0,\"\",\"〒\")","v":"〒"},{"$f":"VLOOKUP(A115,宛名表!$B$3:$H$131,5,0)","v":"039-2401"},null,null,null,null,null,{"$f":"IF(J116=0,\"\",\"〒\")","v":"〒"},{"$f":"VLOOKUP(H115,宛名表!$B$3:$H$131,5,0)","v":"039-1164"}]
[null,{"$f":"VLOOKUP(A115,宛名表!$B$3:$H$131,3,0)","v":"上北郡東北町上北北二丁目33-109"},null,null,null,null,null,null,{"$f":"VLOOKUP(H115,宛名表!$B$3:$H$131,3,0)","v":"八戸市青葉1-9-36"}]
[null,{"$f":"VLOOKUP(A115,宛名表!$B$3:$H$131,4,0)","v":0},null,null,null,null,null,null,{"$f":"VLOOKUP(H115,宛名表!$B$3:$H$131,4,0)","v":0}]
[]
[null,{"$f":"VLOOKUP(A115,宛名表!$B$3:$H$131,2,0)","v":"㈲孝文堂"},null,null,{"$f":"VLOOKUP(A115,宛名表!$B$3:$H$131,7,0)","v":"御中"},null,null,null,{"$f":"VLOOKUP(H115,宛名表!$B$3:$H$131,2,0)","v":"三洋薬品株式会社"},null,null,{"$f":"VLOOKUP(H115,宛名表!$B$3:$H$131,7,0)","v":"御中"}]
[]
[]
[28,null,null,null,null,null,null,34]
[null,{"$f":"IF(C124=0,\"\",\"〒\")","v":"〒"},{"$f":"VLOOKUP(A123,宛名表!$B$3:$H$131,5,0)","v":"030-1262"},null,null,null,null,null,{"$f":"IF(J124=0,\"\",\"〒\")","v":"〒"},{"$f":"VLOOKUP(H123,宛名表!$B$3:$H$131,5,0)","v":"939-3515"}]
[null,{"$f":"VLOOKUP(A123,宛名表!$B$3:$H$131,3,0)","v":"青森市大字後潟字平野61-3"},null,null,null,null,null,null,{"$f":"VLOOKUP(H123,宛名表!$B$3:$H$131,3,0)","v":"富山市水橋辻ｹ堂2028番地"}]
[null,{"$f":"VLOOKUP(A123,宛名表!$B$3:$H$131,4,0)","v":0},null,null,null,null,null,null,{"$f":"VLOOKUP(H123,宛名表!$B$3:$H$131,4,0)","v":0}]
[]
[null,{"$f":"VLOOKUP(A123,宛名表!$B$3:$H$131,2,0)","v":"㈲関原薬品"},null,null,{"$f":"VLOOKUP(A123,宛名表!$B$3:$H$131,7,0)","v":"御中"},null,null,null,{"$f":"VLOOKUP(H123,宛名表!$B$3:$H$131,2,0)","v":"水口　章"},null,null,{"$f":"VLOOKUP(H123,宛名表!$B$3:$H$131,7,0)","v":"様"}]
[]
[]
[29,null,null,null,null,null,null,35]
[null,{"$f":"IF(C132=0,\"\",\"〒\")","v":"〒"},{"$f":"VLOOKUP(A131,宛名表!$B$3:$H$131,5,0)","v":"035-0032"},null,null,null,null,null,{"$f":"IF(J132=0,\"\",\"〒\")","v":"〒"},{"$f":"VLOOKUP(H131,宛名表!$B$3:$H$131,5,0)","v":"939-0526"}]
[null,{"$f":"VLOOKUP(A131,宛名表!$B$3:$H$131,3,0)","v":"むつ市上川町7-4"},null,null,null,null,null,null,{"$f":"VLOOKUP(H131,宛名表!$B$3:$H$131,3,0)","v":"富山市水橋館町411番地"}]
[null,{"$f":"VLOOKUP(A131,宛名表!$B$3:$H$131,4,0)","v":0},null,null,null,null,null,null,{"$f":"VLOOKUP(H131,宛名表!$B$3:$H$131,4,0)","v":0}]
[]
[null,{"$f":"VLOOKUP(A131,宛名表!$B$3:$H$131,2,0)","v":"㈲高島進盛堂薬品"},null,null,{"$f":"VLOOKUP(A131,宛名表!$B$3:$H$131,7,0)","v":"御中"},null,null,null,{"$f":"VLOOKUP(H131,宛名表!$B$3:$H$131,2,0)","v":"㈲上田資生堂"},null,null,{"$f":"VLOOKUP(H131,宛名表!$B$3:$H$131,7,0)","v":"御中"}]
[]
[]
[30,null,null,null,null,null,null,36]
[null,{"$f":"IF(C140=0,\"\",\"〒\")","v":"〒"},{"$f":"VLOOKUP(A139,宛名表!$B$3:$H$131,5,0)","v":"036-8093"},null,null,null,null,null,{"$f":"IF(J140=0,\"\",\"〒\")","v":"〒"},{"$f":"VLOOKUP(H139,宛名表!$B$3:$H$131,5,0)","v":"933-0253"}]
[null,{"$f":"VLOOKUP(A139,宛名表!$B$3:$H$131,3,0)","v":"弘前市城東中央五丁目4-3"},null,null,null,null,null,null,{"$f":"VLOOKUP(H139,宛名表!$B$3:$H$131,3,0)","v":"新湊市七美中野94番地"}]
[null,{"$f":"VLOOKUP(A139,宛名表!$B$3:$H$131,4,0)","v":0},null,null,null,null,null,null,{"$f":"VLOOKUP(H139,宛名表!$B$3:$H$131,4,0)","v":0}]
[]
[null,{"$f":"VLOOKUP(A139,宛名表!$B$3:$H$131,2,0)","v":"ﾏｷﾉ薬品㈱　"},null,null,{"$f":"VLOOKUP(A139,宛名表!$B$3:$H$131,7,0)","v":"御中"},null,null,null,{"$f":"VLOOKUP(H139,宛名表!$B$3:$H$131,2,0)","v":"竹内　彰一"},null,null,{"$f":"VLOOKUP(H139,宛名表!$B$3:$H$131,7,0)","v":"様"}]
[]
[]
[]
[37,null,null,null,null,null,null,43]
[null,{"$f":"IF(C149=0,\"\",\"〒\")","v":"〒"},{"$f":"VLOOKUP(A148,宛名表!$B$3:$H$131,5,0)","v":"939-0526"},null,null,null,null,null,{"$f":"IF(J149=0,\"\",\"〒\")","v":"〒"},{"$f":"VLOOKUP(H148,宛名表!$B$3:$H$131,5,0)","v":"936-0053"}]
[null,{"$f":"VLOOKUP(A148,宛名表!$B$3:$H$131,3,0)","v":"富山市水橋館町212番地の9"},null,null,null,null,null,null,{"$f":"VLOOKUP(H148,宛名表!$B$3:$H$131,3,0)","v":"滑川市上小泉1675番地の3"}]
[null,{"$f":"VLOOKUP(A148,宛名表!$B$3:$H$131,4,0)","v":0},null,null,null,null,null,null,{"$f":"VLOOKUP(H148,宛名表!$B$3:$H$131,4,0)","v":0}]
[]
[null,{"$f":"VLOOKUP(A148,宛名表!$B$3:$H$131,2,0)","v":"坂下　端"},null,null,{"$f":"VLOOKUP(A148,宛名表!$B$3:$H$131,7,0)","v":"様"},null,null,null,{"$f":"VLOOKUP(H148,宛名表!$B$3:$H$131,2,0)","v":"大門　和平"},null,null,{"$f":"VLOOKUP(H148,宛名表!$B$3:$H$131,7,0)","v":"様"}]
[]
[]
[38,null,null,null,null,null,null,44]
[null,{"$f":"IF(C157=0,\"\",\"〒\")","v":"〒"},{"$f":"VLOOKUP(A156,宛名表!$B$3:$H$131,5,0)","v":"939-0401"},null,null,null,null,null,{"$f":"IF(J157=0,\"\",\"〒\")","v":"〒"},{"$f":"VLOOKUP(H156,宛名表!$B$3:$H$131,5,0)","v":"939-0513"}]
[null,{"$f":"VLOOKUP(A156,宛名表!$B$3:$H$131,3,0)","v":"射水郡大門町水戸田902番地"},null,null,null,null,null,null,{"$f":"VLOOKUP(H156,宛名表!$B$3:$H$131,3,0)","v":"富山市水橋中出町934番地"}]
[null,{"$f":"VLOOKUP(A156,宛名表!$B$3:$H$131,4,0)","v":0},null,null,null,null,null,null,{"$f":"VLOOKUP(H156,宛名表!$B$3:$H$131,4,0)","v":0}]
[]
[null,{"$f":"VLOOKUP(A156,宛名表!$B$3:$H$131,2,0)","v":"堀　豊治"},null,null,{"$f":"VLOOKUP(A156,宛名表!$B$3:$H$131,7,0)","v":"様"},null,null,null,{"$f":"VLOOKUP(H156,宛名表!$B$3:$H$131,2,0)","v":"森　忠夫"},null,null,{"$f":"VLOOKUP(H156,宛名表!$B$3:$H$131,7,0)","v":"様"}]
[]
[]
[39,null,null,null,null,null,null,45]
[null,{"$f":"IF(C165=0,\"\",\"〒\")","v":"〒"},{"$f":"VLOOKUP(A164,宛名表!$B$3:$H$131,5,0)","v":"933-0252"},null,null,null,null,null,{"$f":"IF(J165=0,\"\",\"〒\")","v":"〒"},{"$f":"VLOOKUP(H164,宛名表!$B$3:$H$131,5,0)","v":"930-0816"}]
[null,{"$f":"VLOOKUP(A164,宛名表!$B$3:$H$131,3,0)","v":"新湊市七美95番地"},null,null,null,null,null,null,{"$f":"VLOOKUP(H164,宛名表!$B$3:$H$131,3,0)","v":"富山市上赤江町2-11-32-502"}]
[null,{"$f":"VLOOKUP(A164,宛名表!$B$3:$H$131,4,0)","v":0},null,null,null,null,null,null,{"$f":"VLOOKUP(H164,宛名表!$B$3:$H$131,4,0)","v":0}]
[]
[null,{"$f":"VLOOKUP(A164,宛名表!$B$3:$H$131,2,0)","v":"岩口　寛"},null,null,{"$f":"VLOOKUP(A164,宛名表!$B$3:$H$131,7,0)","v":"様"},null,null,null,{"$f":"VLOOKUP(H164,宛名表!$B$3:$H$131,2,0)","v":"上田　恭子"},null,null,{"$f":"VLOOKUP(H164,宛名表!$B$3:$H$131,7,0)","v":"様"}]
[]
[]
[40,null,null,null,null,null,null,46]
[null,{"$f":"IF(C173=0,\"\",\"〒\")","v":"〒"},{"$f":"VLOOKUP(A172,宛名表!$B$3:$H$131,5,0)","v":"939-3515"},null,null,null,null,null,{"$f":"IF(J173=0,\"\",\"〒\")","v":"〒"},{"$f":"VLOOKUP(H172,宛名表!$B$3:$H$131,5,0)","v":"028-6103"}]
[null,{"$f":"VLOOKUP(A172,宛名表!$B$3:$H$131,3,0)","v":"富山市水橋辻ｹ堂1700番地"},null,null,null,null,null,null,{"$f":"VLOOKUP(H172,宛名表!$B$3:$H$131,3,0)","v":"二戸市石切所台中平60-1"}]
[null,{"$f":"VLOOKUP(A172,宛名表!$B$3:$H$131,4,0)","v":0},null,null,null,null,null,null,{"$f":"VLOOKUP(H172,宛名表!$B$3:$H$131,4,0)","v":0}]
[]
[null,{"$f":"VLOOKUP(A172,宛名表!$B$3:$H$131,2,0)","v":"堂口　信治"},null,null,{"$f":"VLOOKUP(A172,宛名表!$B$3:$H$131,7,0)","v":"様"},null,null,null,{"$f":"VLOOKUP(H172,宛名表!$B$3:$H$131,2,0)","v":"㈱かねもり薬品 二戸営業所"},null,null,{"$f":"VLOOKUP(H172,宛名表!$B$3:$H$131,7,0)","v":"御中"}]
[]
[]
[41,null,null,null,null,null,null,47]
[null,{"$f":"IF(C181=0,\"\",\"〒\")","v":"〒"},{"$f":"VLOOKUP(A180,宛名表!$B$3:$H$131,5,0)","v":"939-0536"},null,null,null,null,null,{"$f":"IF(J181=0,\"\",\"〒\")","v":"〒"},{"$f":"VLOOKUP(H180,宛名表!$B$3:$H$131,5,0)","v":"639-2147"}]
[null,{"$f":"VLOOKUP(A180,宛名表!$B$3:$H$131,3,0)","v":"富山市水橋柳寺80番地"},null,null,null,null,null,null,{"$f":"VLOOKUP(H180,宛名表!$B$3:$H$131,3,0)","v":"葛城市新庄121番地"}]
[null,{"$f":"VLOOKUP(A180,宛名表!$B$3:$H$131,4,0)","v":0},null,null,null,null,null,null,{"$f":"VLOOKUP(H180,宛名表!$B$3:$H$131,4,0)","v":0}]
[]
[null,{"$f":"VLOOKUP(A180,宛名表!$B$3:$H$131,2,0)","v":"伊井　繁盛"},null,null,{"$f":"VLOOKUP(A180,宛名表!$B$3:$H$131,7,0)","v":"様"},null,null,null,{"$f":"VLOOKUP(H180,宛名表!$B$3:$H$131,2,0)","v":"永井  利憲"},null,null,{"$f":"VLOOKUP(H180,宛名表!$B$3:$H$131,7,0)","v":"様"}]
[]
[]
[42,null,null,null,null,null,null,48]
[null,{"$f":"IF(C189=0,\"\",\"〒\")","v":"〒"},{"$f":"VLOOKUP(A188,宛名表!$B$3:$H$131,5,0)","v":"930-0351"},null,null,null,null,null,{"$f":"IF(J189=0,\"\",\"〒\")","v":"〒"},{"$f":"VLOOKUP(H188,宛名表!$B$3:$H$131,5,0)","v":"605-0141"}]
[null,{"$f":"VLOOKUP(A188,宛名表!$B$3:$H$131,3,0)","v":"中新川郡上市町北島88番地"},null,null,null,null,null,null,{"$f":"VLOOKUP(H188,宛名表!$B$3:$H$131,3,0)","v":"高市郡高取町与楽143番地"}]
[null,{"$f":"VLOOKUP(A188,宛名表!$B$3:$H$131,4,0)","v":0},null,null,null,null,null,null,{"$f":"VLOOKUP(H188,宛名表!$B$3:$H$131,4,0)","v":0}]
[]
[null,{"$f":"VLOOKUP(A188,宛名表!$B$3:$H$131,2,0)","v":"山本　喜代次"},null,null,{"$f":"VLOOKUP(A188,宛名表!$B$3:$H$131,7,0)","v":"様"},null,null,null,{"$f":"VLOOKUP(H188,宛名表!$B$3:$H$131,2,0)","v":"森川  雅朗"},null,null,{"$f":"VLOOKUP(H188,宛名表!$B$3:$H$131,7,0)","v":"様"}]
[]
[]
[]
[49,null,null,null,null,null,null,55]
[null,{"$f":"IF(C198=0,\"\",\"〒\")","v":"〒"},{"$f":"VLOOKUP(A197,宛名表!$B$3:$H$131,5,0)","v":"683-0014"},null,null,null,null,null,{"$f":"IF(J198=0,\"\",\"〒\")","v":"〒"},{"$f":"VLOOKUP(H197,宛名表!$B$3:$H$131,5,0)","v":"017-0847"}]
[null,{"$f":"VLOOKUP(A197,宛名表!$B$3:$H$131,3,0)","v":"米子市永江240 県営住宅50-2"},null,null,null,null,null,null,{"$f":"VLOOKUP(H197,宛名表!$B$3:$H$131,3,0)","v":"大館宮市幸町16番地16"}]
[null,{"$f":"VLOOKUP(A197,宛名表!$B$3:$H$131,4,0)","v":0},null,null,null,null,null,null,{"$f":"VLOOKUP(H197,宛名表!$B$3:$H$131,4,0)","v":0}]
[]
[null,{"$f":"VLOOKUP(A197,宛名表!$B$3:$H$131,2,0)","v":"保田　優"},null,null,{"$f":"VLOOKUP(A197,宛名表!$B$3:$H$131,7,0)","v":"様"},null,null,null,{"$f":"VLOOKUP(H197,宛名表!$B$3:$H$131,2,0)","v":"水口　輝夫"},null,null,{"$f":"VLOOKUP(H197,宛名表!$B$3:$H$131,7,0)","v":"様"}]
[]
[]
[50,null,null,null,null,null,null,56]
[null,{"$f":"IF(C206=0,\"\",\"〒\")","v":"〒"},{"$f":"VLOOKUP(A205,宛名表!$B$3:$H$131,5,0)","v":"537‐0024"},null,null,null,null,null,{"$f":"IF(J206=0,\"\",\"〒\")","v":""},{"$f":"VLOOKUP(H205,宛名表!$B$3:$H$131,5,0)","v":0}]
[null,{"$f":"VLOOKUP(A205,宛名表!$B$3:$H$131,3,0)","v":"大阪市東成区東小橋2丁目4-10"},null,null,null,null,null,null,{"$f":"VLOOKUP(H205,宛名表!$B$3:$H$131,3,0)","v":0}]
[null,{"$f":"VLOOKUP(A205,宛名表!$B$3:$H$131,4,0)","v":0},null,null,null,null,null,null,{"$f":"VLOOKUP(H205,宛名表!$B$3:$H$131,4,0)","v":0}]
[]
[null,{"$f":"VLOOKUP(A205,宛名表!$B$3:$H$131,2,0)","v":"上田　平次"},null,null,{"$f":"VLOOKUP(A205,宛名表!$B$3:$H$131,7,0)","v":"様"},null,null,null,{"$f":"VLOOKUP(H205,宛名表!$B$3:$H$131,2,0)","v":0},null,null,{"$f":"VLOOKUP(H205,宛名表!$B$3:$H$131,7,0)","v":0}]
[]
[]
[51,null,null,null,null,null,null,57]
[null,{"$f":"IF(C214=0,\"\",\"〒\")","v":"〒"},{"$f":"VLOOKUP(A213,宛名表!$B$3:$H$131,5,0)","v":"041-0813"},null,null,null,null,null,{"$f":"IF(J214=0,\"\",\"〒\")","v":""},{"$f":"VLOOKUP(H213,宛名表!$B$3:$H$131,5,0)","v":0}]
[null,{"$f":"VLOOKUP(A213,宛名表!$B$3:$H$131,3,0)","v":"函館市亀田本町20番地17"},null,null,null,null,null,null,{"$f":"VLOOKUP(H213,宛名表!$B$3:$H$131,3,0)","v":0}]
[null,{"$f":"VLOOKUP(A213,宛名表!$B$3:$H$131,4,0)","v":0},null,null,null,null,null,null,{"$f":"VLOOKUP(H213,宛名表!$B$3:$H$131,4,0)","v":0}]
[]
[null,{"$f":"VLOOKUP(A213,宛名表!$B$3:$H$131,2,0)","v":"武村　英人"},null,null,{"$f":"VLOOKUP(A213,宛名表!$B$3:$H$131,7,0)","v":"様"},null,null,null,{"$f":"VLOOKUP(H213,宛名表!$B$3:$H$131,2,0)","v":0},null,null,{"$f":"VLOOKUP(H213,宛名表!$B$3:$H$131,7,0)","v":0}]
[]
[]
[52,null,null,null,null,null,null,58]
[null,{"$f":"IF(C222=0,\"\",\"〒\")","v":"〒"},{"$f":"VLOOKUP(A221,宛名表!$B$3:$H$131,5,0)","v":"027-0054"},null,null,null,null,null,{"$f":"IF(J222=0,\"\",\"〒\")","v":""},{"$f":"VLOOKUP(H221,宛名表!$B$3:$H$131,5,0)","v":0}]
[null,{"$f":"VLOOKUP(A221,宛名表!$B$3:$H$131,3,0)","v":"宮古市太田一丁目8番地36"},null,null,null,null,null,null,{"$f":"VLOOKUP(H221,宛名表!$B$3:$H$131,3,0)","v":0}]
[null,{"$f":"VLOOKUP(A221,宛名表!$B$3:$H$131,4,0)","v":0},null,null,null,null,null,null,{"$f":"VLOOKUP(H221,宛名表!$B$3:$H$131,4,0)","v":0}]
[]
[null,{"$f":"VLOOKUP(A221,宛名表!$B$3:$H$131,2,0)","v":"梶原　孝夫"},null,null,{"$f":"VLOOKUP(A221,宛名表!$B$3:$H$131,7,0)","v":"様"},null,null,null,{"$f":"VLOOKUP(H221,宛名表!$B$3:$H$131,2,0)","v":0},null,null,{"$f":"VLOOKUP(H221,宛名表!$B$3:$H$131,7,0)","v":0}]
[]
[]
[53,null,null,null,null,null,null,59]
[null,{"$f":"IF(C230=0,\"\",\"〒\")","v":"〒"},{"$f":"VLOOKUP(A229,宛名表!$B$3:$H$131,5,0)","v":"041-0841"},null,null,null,null,null,{"$f":"IF(J230=0,\"\",\"〒\")","v":""},{"$f":"VLOOKUP(H229,宛名表!$B$3:$H$131,5,0)","v":0}]
[null,{"$f":"VLOOKUP(A229,宛名表!$B$3:$H$131,3,0)","v":"函館市美原町一丁目20-7"},null,null,null,null,null,null,{"$f":"VLOOKUP(H229,宛名表!$B$3:$H$131,3,0)","v":0}]
[null,{"$f":"VLOOKUP(A229,宛名表!$B$3:$H$131,4,0)","v":0},null,null,null,null,null,null,{"$f":"VLOOKUP(H229,宛名表!$B$3:$H$131,4,0)","v":0}]
[]
[null,{"$f":"VLOOKUP(A229,宛名表!$B$3:$H$131,2,0)","v":"㈲雪の元"},null,null,{"$f":"VLOOKUP(A229,宛名表!$B$3:$H$131,7,0)","v":"御中"},null,null,null,{"$f":"VLOOKUP(H229,宛名表!$B$3:$H$131,2,0)","v":0},null,null,{"$f":"VLOOKUP(H229,宛名表!$B$3:$H$131,7,0)","v":0}]
[]
[]
[54,null,null,null,null,null,null,60]
[null,{"$f":"IF(C238=0,\"\",\"〒\")","v":"〒"},{"$f":"VLOOKUP(A237,宛名表!$B$3:$H$131,5,0)","v":"639-2245"},null,null,null,null,null,{"$f":"IF(J238=0,\"\",\"〒\")","v":""},{"$f":"VLOOKUP(H237,宛名表!$B$3:$H$131,5,0)","v":0}]
[null,{"$f":"VLOOKUP(A237,宛名表!$B$3:$H$131,3,0)","v":"御所市今住700-1"},null,null,null,null,null,null,{"$f":"VLOOKUP(H237,宛名表!$B$3:$H$131,3,0)","v":0}]
[null,{"$f":"VLOOKUP(A237,宛名表!$B$3:$H$131,4,0)","v":0},null,null,null,null,null,null,{"$f":"VLOOKUP(H237,宛名表!$B$3:$H$131,4,0)","v":0}]
[]
[null,{"$f":"VLOOKUP(A237,宛名表!$B$3:$H$131,2,0)","v":"㈱三光丸"},null,null,{"$f":"VLOOKUP(A237,宛名表!$B$3:$H$131,7,0)","v":"御中"},null,null,null,{"$f":"VLOOKUP(H237,宛名表!$B$3:$H$131,2,0)","v":0},null,null,{"$f":"VLOOKUP(H237,宛名表!$B$3:$H$131,7,0)","v":0}]
[]
[]
[]
[61,null,null,null,null,null,null,67]
[null,{"$f":"IF(C247=0,\"\",\"〒\")","v":""},{"$f":"VLOOKUP(A246,宛名表!$B$3:$H$131,5,0)","v":0},null,null,null,null,null,{"$f":"IF(J247=0,\"\",\"〒\")","v":""},{"$f":"VLOOKUP(H246,宛名表!$B$3:$H$131,5,0)","v":0}]
[null,{"$f":"VLOOKUP(A246,宛名表!$B$3:$H$131,3,0)","v":0},null,null,null,null,null,null,{"$f":"VLOOKUP(H246,宛名表!$B$3:$H$131,3,0)","v":0}]
[null,{"$f":"VLOOKUP(A246,宛名表!$B$3:$H$131,4,0)","v":0},null,null,null,null,null,null,{"$f":"VLOOKUP(H246,宛名表!$B$3:$H$131,4,0)","v":0}]
[]
[null,{"$f":"VLOOKUP(A246,宛名表!$B$3:$H$131,2,0)","v":0},null,null,{"$f":"VLOOKUP(A246,宛名表!$B$3:$H$131,7,0)","v":0},null,null,null,{"$f":"VLOOKUP(H246,宛名表!$B$3:$H$131,2,0)","v":0},null,null,{"$f":"VLOOKUP(H246,宛名表!$B$3:$H$131,7,0)","v":0}]
[]
[]
[62,null,null,null,null,null,null,68]
[null,{"$f":"IF(C255=0,\"\",\"〒\")","v":""},{"$f":"VLOOKUP(A254,宛名表!$B$3:$H$131,5,0)","v":0},null,null,null,null,null,{"$f":"IF(J255=0,\"\",\"〒\")","v":""},{"$f":"VLOOKUP(H254,宛名表!$B$3:$H$131,5,0)","v":0}]
[null,{"$f":"VLOOKUP(A254,宛名表!$B$3:$H$131,3,0)","v":0},null,null,null,null,null,null,{"$f":"VLOOKUP(H254,宛名表!$B$3:$H$131,3,0)","v":0}]
[null,{"$f":"VLOOKUP(A254,宛名表!$B$3:$H$131,4,0)","v":0},null,null,null,null,null,null,{"$f":"VLOOKUP(H254,宛名表!$B$3:$H$131,4,0)","v":0}]
[]
[null,{"$f":"VLOOKUP(A254,宛名表!$B$3:$H$131,2,0)","v":0},null,null,{"$f":"VLOOKUP(A254,宛名表!$B$3:$H$131,7,0)","v":0},null,null,null,{"$f":"VLOOKUP(H254,宛名表!$B$3:$H$131,2,0)","v":0},null,null,{"$f":"VLOOKUP(H254,宛名表!$B$3:$H$131,7,0)","v":0}]
[]
[]
[63,null,null,null,null,null,null,69]
[null,{"$f":"IF(C263=0,\"\",\"〒\")","v":""},{"$f":"VLOOKUP(A262,宛名表!$B$3:$H$131,5,0)","v":0},null,null,null,null,null,{"$f":"IF(J263=0,\"\",\"〒\")","v":""},{"$f":"VLOOKUP(H262,宛名表!$B$3:$H$131,5,0)","v":0}]
[null,{"$f":"VLOOKUP(A262,宛名表!$B$3:$H$131,3,0)","v":0},null,null,null,null,null,null,{"$f":"VLOOKUP(H262,宛名表!$B$3:$H$131,3,0)","v":0}]
[null,{"$f":"VLOOKUP(A262,宛名表!$B$3:$H$131,4,0)","v":0},null,null,null,null,null,null,{"$f":"VLOOKUP(H262,宛名表!$B$3:$H$131,4,0)","v":0}]
[]
[null,{"$f":"VLOOKUP(A262,宛名表!$B$3:$H$131,2,0)","v":0},null,null,{"$f":"VLOOKUP(A262,宛名表!$B$3:$H$131,7,0)","v":0},null,null,null,{"$f":"VLOOKUP(H262,宛名表!$B$3:$H$131,2,0)","v":0},null,null,{"$f":"VLOOKUP(H262,宛名表!$B$3:$H$131,7,0)","v":0}]
[]
[]
[64,null,null,null,null,null,null,70]
[null,{"$f":"IF(C271=0,\"\",\"〒\")","v":""},{"$f":"VLOOKUP(A270,宛名表!$B$3:$H$131,5,0)","v":0},null,null,null,null,null,{"$f":"IF(J271=0,\"\",\"〒\")","v":""},{"$f":"VLOOKUP(H270,宛名表!$B$3:$H$131,5,0)","v":0}]
[null,{"$f":"VLOOKUP(A270,宛名表!$B$3:$H$131,3,0)","v":0},null,null,null,null,null,null,{"$f":"VLOOKUP(H270,宛名表!$B$3:$H$131,3,0)","v":0}]
[null,{"$f":"VLOOKUP(A270,宛名表!$B$3:$H$131,4,0)","v":0},null,null,null,null,null,null,{"$f":"VLOOKUP(H270,宛名表!$B$3:$H$131,4,0)","v":0}]
[]
[null,{"$f":"VLOOKUP(A270,宛名表!$B$3:$H$131,2,0)","v":0},null,null,{"$f":"VLOOKUP(A270,宛名表!$B$3:$H$131,7,0)","v":0},null,null,null,{"$f":"VLOOKUP(H270,宛名表!$B$3:$H$131,2,0)","v":0},null,null,{"$f":"VLOOKUP(H270,宛名表!$B$3:$H$131,7,0)","v":0}]
[]
[]
[65,null,null,null,null,null,null,71]
[null,{"$f":"IF(C279=0,\"\",\"〒\")","v":""},{"$f":"VLOOKUP(A278,宛名表!$B$3:$H$131,5,0)","v":0},null,null,null,null,null,{"$f":"IF(J279=0,\"\",\"〒\")","v":""},{"$f":"VLOOKUP(H278,宛名表!$B$3:$H$131,5,0)","v":0}]
[null,{"$f":"VLOOKUP(A278,宛名表!$B$3:$H$131,3,0)","v":0},null,null,null,null,null,null,{"$f":"VLOOKUP(H278,宛名表!$B$3:$H$131,3,0)","v":0}]
[null,{"$f":"VLOOKUP(A278,宛名表!$B$3:$H$131,4,0)","v":0},null,null,null,null,null,null,{"$f":"VLOOKUP(H278,宛名表!$B$3:$H$131,4,0)","v":0}]
[]
[null,{"$f":"VLOOKUP(A278,宛名表!$B$3:$H$131,2,0)","v":0},null,null,{"$f":"VLOOKUP(A278,宛名表!$B$3:$H$131,7,0)","v":0},null,null,null,{"$f":"VLOOKUP(H278,宛名表!$B$3:$H$131,2,0)","v":0},null,null,{"$f":"VLOOKUP(H278,宛名表!$B$3:$H$131,7,0)","v":0}]
[]
[]
[66,null,null,null,null,null,null,72]
[null,{"$f":"IF(C287=0,\"\",\"〒\")","v":""},{"$f":"VLOOKUP(A286,宛名表!$B$3:$H$131,5,0)","v":0},null,null,null,null,null,{"$f":"IF(J287=0,\"\",\"〒\")","v":""},{"$f":"VLOOKUP(H286,宛名表!$B$3:$H$131,5,0)","v":0}]
[null,{"$f":"VLOOKUP(A286,宛名表!$B$3:$H$131,3,0)","v":0},null,null,null,null,null,null,{"$f":"VLOOKUP(H286,宛名表!$B$3:$H$131,3,0)","v":0}]
[null,{"$f":"VLOOKUP(A286,宛名表!$B$3:$H$131,4,0)","v":0},null,null,null,null,null,null,{"$f":"VLOOKUP(H286,宛名表!$B$3:$H$131,4,0)","v":0}]
[]
[null,{"$f":"VLOOKUP(A286,宛名表!$B$3:$H$131,2,0)","v":0},null,null,{"$f":"VLOOKUP(A286,宛名表!$B$3:$H$131,7,0)","v":0},null,null,null,{"$f":"VLOOKUP(H286,宛名表!$B$3:$H$131,2,0)","v":0},null,null,{"$f":"VLOOKUP(H286,宛名表!$B$3:$H$131,7,0)","v":0}]
[]
[]
[]
[73,null,null,null,null,null,null,79]
[null,{"$f":"IF(C296=0,\"\",\"〒\")","v":""},{"$f":"VLOOKUP(A295,宛名表!$B$3:$H$131,5,0)","v":0},null,null,null,null,null,{"$f":"IF(J296=0,\"\",\"〒\")","v":""},{"$f":"VLOOKUP(H295,宛名表!$B$3:$H$131,5,0)","v":0}]
[null,{"$f":"VLOOKUP(A295,宛名表!$B$3:$H$131,3,0)","v":0},null,null,null,null,null,null,{"$f":"VLOOKUP(H295,宛名表!$B$3:$H$131,3,0)","v":0}]
[null,{"$f":"VLOOKUP(A295,宛名表!$B$3:$H$131,4,0)","v":0},null,null,null,null,null,null,{"$f":"VLOOKUP(H295,宛名表!$B$3:$H$131,4,0)","v":0}]
[]
[null,{"$f":"VLOOKUP(A295,宛名表!$B$3:$H$131,2,0)","v":0},null,null,{"$f":"VLOOKUP(A295,宛名表!$B$3:$H$131,7,0)","v":0},null,null,null,{"$f":"VLOOKUP(H295,宛名表!$B$3:$H$131,2,0)","v":0},null,null,{"$f":"VLOOKUP(H295,宛名表!$B$3:$H$131,7,0)","v":0}]
[]
[]
[74,null,null,null,null,null,null,80]
[null,{"$f":"IF(C304=0,\"\",\"〒\")","v":""},{"$f":"VLOOKUP(A303,宛名表!$B$3:$H$131,5,0)","v":0},null,null,null,null,null,{"$f":"IF(J304=0,\"\",\"〒\")","v":""},{"$f":"VLOOKUP(H303,宛名表!$B$3:$H$131,5,0)","v":0}]
[null,{"$f":"VLOOKUP(A303,宛名表!$B$3:$H$131,3,0)","v":0},null,null,null,null,null,null,{"$f":"VLOOKUP(H303,宛名表!$B$3:$H$131,3,0)","v":0}]
[null,{"$f":"VLOOKUP(A303,宛名表!$B$3:$H$131,4,0)","v":0},null,null,null,null,null,null,{"$f":"VLOOKUP(H303,宛名表!$B$3:$H$131,4,0)","v":0}]
[]
[null,{"$f":"VLOOKUP(A303,宛名表!$B$3:$H$131,2,0)","v":0},null,null,{"$f":"VLOOKUP(A303,宛名表!$B$3:$H$131,7,0)","v":0},null,null,null,{"$f":"VLOOKUP(H303,宛名表!$B$3:$H$131,2,0)","v":0},null,null,{"$f":"VLOOKUP(H303,宛名表!$B$3:$H$131,7,0)","v":0}]
[]
[]
[75,null,null,null,null,null,null,81]
[null,{"$f":"IF(C312=0,\"\",\"〒\")","v":""},{"$f":"VLOOKUP(A311,宛名表!$B$3:$H$131,5,0)","v":0},null,null,null,null,null,{"$f":"IF(J312=0,\"\",\"〒\")","v":""},{"$f":"VLOOKUP(H311,宛名表!$B$3:$H$131,5,0)","v":0}]
[null,{"$f":"VLOOKUP(A311,宛名表!$B$3:$H$131,3,0)","v":0},null,null,null,null,null,null,{"$f":"VLOOKUP(H311,宛名表!$B$3:$H$131,3,0)","v":0}]
[null,{"$f":"VLOOKUP(A311,宛名表!$B$3:$H$131,4,0)","v":0},null,null,null,null,null,null,{"$f":"VLOOKUP(H311,宛名表!$B$3:$H$131,4,0)","v":0}]
[]
[null,{"$f":"VLOOKUP(A311,宛名表!$B$3:$H$131,2,0)","v":0},null,null,{"$f":"VLOOKUP(A311,宛名表!$B$3:$H$131,7,0)","v":0},null,null,null,{"$f":"VLOOKUP(H311,宛名表!$B$3:$H$131,2,0)","v":0},null,null,{"$f":"VLOOKUP(H311,宛名表!$B$3:$H$131,7,0)","v":0}]
[]
[]
[76,null,null,null,null,null,null,82]
[null,{"$f":"IF(C320=0,\"\",\"〒\")","v":""},{"$f":"VLOOKUP(A319,宛名表!$B$3:$H$131,5,0)","v":0},null,null,null,null,null,{"$f":"IF(J320=0,\"\",\"〒\")","v":""},{"$f":"VLOOKUP(H319,宛名表!$B$3:$H$131,5,0)","v":0}]
[null,{"$f":"VLOOKUP(A319,宛名表!$B$3:$H$131,3,0)","v":0},null,null,null,null,null,null,{"$f":"VLOOKUP(H319,宛名表!$B$3:$H$131,3,0)","v":0}]
[null,{"$f":"VLOOKUP(A319,宛名表!$B$3:$H$131,4,0)","v":0},null,null,null,null,null,null,{"$f":"VLOOKUP(H319,宛名表!$B$3:$H$131,4,0)","v":0}]
[]
[null,{"$f":"VLOOKUP(A319,宛名表!$B$3:$H$131,2,0)","v":0},null,null,{"$f":"VLOOKUP(A319,宛名表!$B$3:$H$131,7,0)","v":0},null,null,null,{"$f":"VLOOKUP(H319,宛名表!$B$3:$H$131,2,0)","v":0},null,null,{"$f":"VLOOKUP(H319,宛名表!$B$3:$H$131,7,0)","v":0}]
[]
[]
[77,null,null,null,null,null,null,83]
[null,{"$f":"IF(C328=0,\"\",\"〒\")","v":""},{"$f":"VLOOKUP(A327,宛名表!$B$3:$H$131,5,0)","v":0},null,null,null,null,null,{"$f":"IF(J328=0,\"\",\"〒\")","v":""},{"$f":"VLOOKUP(H327,宛名表!$B$3:$H$131,5,0)","v":0}]
[null,{"$f":"VLOOKUP(A327,宛名表!$B$3:$H$131,3,0)","v":0},null,null,null,null,null,null,{"$f":"VLOOKUP(H327,宛名表!$B$3:$H$131,3,0)","v":0}]
[null,{"$f":"VLOOKUP(A327,宛名表!$B$3:$H$131,4,0)","v":0},null,null,null,null,null,null,{"$f":"VLOOKUP(H327,宛名表!$B$3:$H$131,4,0)","v":0}]
[]
[null,{"$f":"VLOOKUP(A327,宛名表!$B$3:$H$131,2,0)","v":0},null,null,{"$f":"VLOOKUP(A327,宛名表!$B$3:$H$131,7,0)","v":0},null,null,null,{"$f":"VLOOKUP(H327,宛名表!$B$3:$H$131,2,0)","v":0},null,null,{"$f":"VLOOKUP(H327,宛名表!$B$3:$H$131,7,0)","v":0}]
[]
[]
[78,null,null,null,null,null,null,84]
[null,{"$f":"IF(C336=0,\"\",\"〒\")","v":""},{"$f":"VLOOKUP(A335,宛名表!$B$3:$H$131,5,0)","v":0},null,null,null,null,null,{"$f":"IF(J336=0,\"\",\"〒\")","v":""},{"$f":"VLOOKUP(H335,宛名表!$B$3:$H$131,5,0)","v":0}]
[null,{"$f":"VLOOKUP(A335,宛名表!$B$3:$H$131,3,0)","v":0},null,null,null,null,null,null,{"$f":"VLOOKUP(H335,宛名表!$B$3:$H$131,3,0)","v":0}]
[null,{"$f":"VLOOKUP(A335,宛名表!$B$3:$H$131,4,0)","v":0},null,null,null,null,null,null,{"$f":"VLOOKUP(H335,宛名表!$B$3:$H$131,4,0)","v":0}]
[]
[null,{"$f":"VLOOKUP(A335,宛名表!$B$3:$H$131,2,0)","v":0},null,null,{"$f":"VLOOKUP(A335,宛名表!$B$3:$H$131,7,0)","v":0},null,null,null,{"$f":"VLOOKUP(H335,宛名表!$B$3:$H$131,2,0)","v":0},null,null,{"$f":"VLOOKUP(H335,宛名表!$B$3:$H$131,7,0)","v":0}]

{"sheet":"24面ラベル印刷","index":2,"n_rows":143,"n_cols":17,"rows_kept":143,"cut":false,"hidden":false,"merged":[[140,13,140,16],[141,1,141,4],[141,7,141,10],[141,13,141,16],[142,1,142,3],[142,4,142,5],[142,7,142,9],[142,10,142,11],[142,13,142,15],[142,16,142,17],[140,1,140,4],[140,7,140,10],[134,13,134,16],[135,1,135,4],[135,7,135,10],[135,13,135,16],[136,1,136,3],[136,4,136,5],[136,7,136,9],[136,10,136,11],[136,13,136,15],[136,16,136,17],[134,1,134,4],[134,7,134,10],[130,1,130,3],[130,4,130,5],[130,7,130,9],[130,10,130,11],[130,13,130,15],[130,16,130,17],[124,16,124,17],[128,1,128,4],[128,7,128,10],[128,13,128,16],[129,1,129,4],[129,7,129,10],[129,13,129,16],[122,1,122,4],[122,7,122,10],[122,13,122,16],[123,7,123,10],[123,13,123,16],[124,1,124,3],[124,4,124,5],[124,7,124,9],[124,10,124,11],[124,13,124,15],[123,1,123,4],[116,13,116,16],[117,1,117,4],[117,7,117,10],[117,13,117,16],[118,1,118,3],[118,4,118,5],[118,7,118,9],[118,10,118,11],[118,13,118,15],[118,16,118,17],[116,1,116,4],[116,7,116,10],[110,13,110,16],[111,1,111,4],[111,7,111,10],[111,13,111,16],[112,1,112,3],[112,4,112,5],[112,7,112,9],[112,10,112,11],[112,13,112,15],[112,16,112,17],[110,1,110,4],[110,7,110,10],[106,1,106,3],[106,4,106,5],[106,7,106,9],[106,10,106,11],[106,13,106,15],[106,16,106,17],[100,16,100,17],[104,1,104,4],[104,7,104,10],[104,13,104,16],[105,1,105,4],[105,7,105,10],[105,13,105,16],[98,1,98,4],[98,7,98,10],[98,13,98,16],[99,7,99,10],[99,13,99,16],[100,1,100,3],[100,4,100,5],[100,7,100,9],[100,10,100,11],[100,13,100,15],[99,1,99,4],[92,13,92,16],[93,1,93,4],[93,7,93,10],[93,13,93,16],[94,1,94,3],[94,4,94,5],[94,7,94,9],[94,10,94,11],[94,13,94,15],[94,16,94,17],[92,1,92,4],[92,7,92,10],[87,1,87,4],[87,7,87,10],[87,13,87,16],[88,1,88,3],[88,4,88,5],[88,7,88,9],[88,10,88,11],[88,13,88,15],[88,16,88,17],[82,7,82,9],[82,10,82,11],[82,13,82,15],[82,16,82,17],[86,1,86,4],[86,7,86,10],[86,13,86,16],[80,1,80,4],[80,7,80,10],[80,13,80,16],[81,1,81,4],[81,7,81,10],[81,13,81,16],[82,1,82,3],[82,4,82,5],[74,13,74,16],[75,7,75,10],[75,13,75,16],[76,1,76,3],[76,4,76,5],[76,7,76,9],[76,10,76,11],[76,13,76,15],[76,16,76,17],[74,1,74,4],[75,1,75,4],[74,7,74,10],[68,13,68,16],[69,1,69,4],[69,7,69,10],[69,13,69,16],[70,1,70,3],[70,4,70,5],[70,7,70,9],[70,10,70,11],[70,13,70,15],[70,16,70,17],[68,1,68,4],[68,7,68,10],[63,1,63,4],[63,7,63,10],[63,13,63,16],[64,1,64,3],[64,4,64,5],[64,7,64,9],[64,10,64,11],[64,13,64,15],[64,16,64,17],[58,7,58,9],[58,10,58,11],[58,13,58,15],[58,16,58,17],[62,1,62,4],[62,7,62,10],[62,13,62,16],[56,1,56,4],[56,7,56,10],[56,13,56,16],[57,1,57,4],[57,7,57,10],[57,13,57,16],[58,1,58,3],[58,4,58,5],[50,13,50,16],[51,7,51,10],[51,13,51,16],[52,1,52,3],[52,4,52,5],[52,7,52,9],[52,10,52,11],[52,13,52,15],[52,16,52,17],[50,1,50,4],[51,1,51,4],[50,7,50,10],[44,13,44,16],[45,1,45,4],[45,7,45,10],[45,13,45,16],[46,1,46,3],[46,4,46,5],[46,7,46,9],[46,10,46,11],[46,13,46,15],[46,16,46,17],[44,1,44,4],[44,7,44,10],[40,1,40,3],[40,4,40,5],[40,7,40,9],[40,10,40,11],[40,13,40,15],[40,16,40,17],[34,16,34,17],[38,1,38,4],[38,7,38,10],[38,13,38,16],[39,1,39,4],[39,7,39,10],[39,13,39,16],[32,1,32,4],[32,7,32,10],[32,13,32,16],[33,7,33,10],[33,13,33,16],[34,1,34,3],[34,4,34,5],[34,7,34,9],[34,10,34,11],[34,13,34,15],[33,1,33,4],[26,13,26,16],[27,1,27,4],[27,7,27,10],[27,13,27,16],[28,1,28,3],[28,4,28,5],[28,7,28,9],[28,10,28,11],[28,13,28,15],[28,16,28,17],[26,1,26,4],[26,7,26,10],[20,13,20,16],[21,1,21,4],[21,7,21,10],[21,13,21,16],[22,1,22,3],[22,4,22,5],[22,7,22,9],[22,10,22,11],[22,13,22,15],[22,16,22,17],[20,1,20,4],[20,7,20,10],[16,1,16,3],[16,4,16,5],[16,7,16,9],[16,10,16,11],[16,13,16,15],[16,16,16,17],[14,1,14,4],[14,7,14,10],[14,13,14,16],[15,1,15,4],[15,7,15,10],[15,13,15,16],[9,13,9,16],[10,1,10,3],[10,4,10,5],[10,7,10,9],[10,10,10,11],[10,13,10,15],[10,16,10,17],[2,13,2,16],[3,13,3,16],[4,13,4,15],[4,16,4,17],[8,1,8,4],[8,7,8,10],[8,13,8,16],[9,1,9,4],[9,7,9,10],[2,1,2,4],[2,7,2,10],[3,1,3,4],[3,7,3,10],[4,1,4,3],[4,4,4,5],[4,7,4,9],[4,10,4,11]]}
[1,null,null,null,null,null,9,null,null,null,null,null,17]
[null,{"$f":"IF(C2=0,\"\",\"〒\")","v":"〒"},{"$f":"VLOOKUP(A1,宛名表!$B$3:$H$131,5,0)","v":"030-0003"},null,null,null,null,{"$f":"IF(I2=0,\"\",\"〒\")","v":"〒"},{"$f":"VLOOKUP(G1,宛名表!$B$3:$H$131,5,0)","v":"036-1202"},null,null,null,null,{"$f":"IF(O2=0,\"\",\"〒\")","v":"〒"},{"$f":"VLOOKUP(M1,宛名表!$B$3:$H$131,5,0)","v":"039-0611"}]
[null,{"$f":"VLOOKUP(A1,宛名表!$B$3:$H$131,3,0)","v":"青森市大字石江字岡部33-42"},null,null,null,null,null,{"$f":"VLOOKUP(G1,宛名表!$B$3:$H$131,3,0)","v":"弘前市大字十面沢字轡93-4"},null,null,null,null,null,{"$f":"VLOOKUP(M1,宛名表!$B$3:$H$131,3,0)","v":"三戸郡名川町斗賀上平5-2"}]
[null,{"$f":"VLOOKUP(A1,宛名表!$B$3:$H$131,4,0)","v":0},null,null,null,null,null,{"$f":"VLOOKUP(G1,宛名表!$B$3:$H$131,4,0)","v":0},null,null,null,null,null,{"$f":"VLOOKUP(M1,宛名表!$B$3:$H$131,4,0)","v":0}]
[null,{"$f":"VLOOKUP(A1,宛名表!$B$3:$H$131,2,0)","v":"加藤　純也"},null,null,{"$f":"VLOOKUP(A1,宛名表!$B$3:$H$131,7,0)","v":"様"},null,null,{"$f":"VLOOKUP(G1,宛名表!$B$3:$H$131,2,0)","v":"台丸谷　光雄"},null,null,{"$f":"VLOOKUP(G1,宛名表!$B$3:$H$131,7,0)","v":"様"},null,null,{"$f":"VLOOKUP(M1,宛名表!$B$3:$H$131,2,0)","v":"藤田　信義"},null,null,{"$f":"VLOOKUP(M1,宛名表!$B$3:$H$131,7,0)","v":"様"}]
[]
[2,null,null,null,null,null,10,null,null,null,null,null,18]
[null,{"$f":"IF(C8=0,\"\",\"〒\")","v":"〒"},{"$f":"VLOOKUP(A7,宛名表!$B$3:$H$131,5,0)","v":"030-0852"},null,null,null,null,{"$f":"IF(I8=0,\"\",\"〒\")","v":"〒"},{"$f":"VLOOKUP(G7,宛名表!$B$3:$H$131,5,0)","v":"037-0023"},null,null,null,null,{"$f":"IF(O8=0,\"\",\"〒\")","v":"〒"},{"$f":"VLOOKUP(M7,宛名表!$B$3:$H$131,5,0)","v":"036-8174"}]
[null,{"$f":"VLOOKUP(A7,宛名表!$B$3:$H$131,3,0)","v":"青森市大野前田76-66"},null,null,null,null,null,{"$f":"VLOOKUP(G7,宛名表!$B$3:$H$131,3,0)","v":"五所川原市広田柳沼39"},null,null,null,null,null,{"$f":"VLOOKUP(M7,宛名表!$B$3:$H$131,3,0)","v":"弘前市富野町18-23"}]
[null,{"$f":"VLOOKUP(A7,宛名表!$B$3:$H$131,4,0)","v":0},null,null,null,null,null,{"$f":"VLOOKUP(G7,宛名表!$B$3:$H$131,4,0)","v":0},null,null,null,null,null,{"$f":"VLOOKUP(M7,宛名表!$B$3:$H$131,4,0)","v":0}]
[null,{"$f":"VLOOKUP(A7,宛名表!$B$3:$H$131,2,0)","v":"牧石　正行"},null,null,{"$f":"VLOOKUP(A7,宛名表!$B$3:$H$131,7,0)","v":"様"},null,null,{"$f":"VLOOKUP(G7,宛名表!$B$3:$H$131,2,0)","v":"荒井  時"},null,null,{"$f":"VLOOKUP(G7,宛名表!$B$3:$H$131,7,0)","v":"様"},null,null,{"$f":"VLOOKUP(M7,宛名表!$B$3:$H$131,2,0)","v":"江川　千鶴子"},null,null,{"$f":"VLOOKUP(M7,宛名表!$B$3:$H$131,7,0)","v":"様"}]
[]
[3,null,null,null,null,null,11,null,null,null,null,null,19]
[null,{"$f":"IF(C14=0,\"\",\"〒\")","v":"〒"},{"$f":"VLOOKUP(A13,宛名表!$B$3:$H$131,5,0)","v":"038-0001"},null,null,null,null,{"$f":"IF(I14=0,\"\",\"〒\")","v":"〒"},{"$f":"VLOOKUP(G13,宛名表!$B$3:$H$131,5,0)","v":"038-3155"},null,null,null,null,{"$f":"IF(O14=0,\"\",\"〒\")","v":"〒"},{"$f":"VLOOKUP(M13,宛名表!$B$3:$H$131,5,0)","v":"038-3144"}]
[null,{"$f":"VLOOKUP(A13,宛名表!$B$3:$H$131,3,0)","v":"青森市新田二丁目22-8"},null,null,null,null,null,{"$f":"VLOOKUP(G13,宛名表!$B$3:$H$131,3,0)","v":"つがる市木造町増田17-28"},null,null,null,null,null,{"$f":"VLOOKUP(M13,宛名表!$B$3:$H$131,3,0)","v":"つがる市木造曙11-3"}]
[null,{"$f":"VLOOKUP(A13,宛名表!$B$3:$H$131,4,0)","v":0},null,null,null,null,null,{"$f":"VLOOKUP(G13,宛名表!$B$3:$H$131,4,0)","v":0},null,null,null,null,null,{"$f":"VLOOKUP(M13,宛名表!$B$3:$H$131,4,0)","v":0}]
[null,{"$f":"VLOOKUP(A13,宛名表!$B$3:$H$131,2,0)","v":"長尾　博之"},null,null,{"$f":"VLOOKUP(A13,宛名表!$B$3:$H$131,7,0)","v":"様"},null,null,{"$f":"VLOOKUP(G13,宛名表!$B$3:$H$131,2,0)","v":"石森　茂春"},null,null,{"$f":"VLOOKUP(G13,宛名表!$B$3:$H$131,7,0)","v":"様"},null,null,{"$f":"VLOOKUP(M13,宛名表!$B$3:$H$131,2,0)","v":"佐々木　繁幸"},null,null,{"$f":"VLOOKUP(M13,宛名表!$B$3:$H$131,7,0)","v":"様"}]
[]
[4,null,null,null,null,null,12,null,null,null,null,null,20]
[null,{"$f":"IF(C20=0,\"\",\"〒\")","v":"〒"},{"$f":"VLOOKUP(A19,宛名表!$B$3:$H$131,5,0)","v":"039-3311"},null,null,null,null,{"$f":"IF(I20=0,\"\",\"〒\")","v":"〒"},{"$f":"VLOOKUP(G19,宛名表!$B$3:$H$131,5,0)","v":"037-0104"},null,null,null,null,{"$f":"IF(O20=0,\"\",\"〒\")","v":"〒"},{"$f":"VLOOKUP(M19,宛名表!$B$3:$H$131,5,0)","v":"038-3303"}]
[null,{"$f":"VLOOKUP(A19,宛名表!$B$3:$H$131,3,0)","v":"東津軽郡平内町福館雷電林1-14"},null,null,null,null,null,{"$f":"VLOOKUP(G19,宛名表!$B$3:$H$131,3,0)","v":"つがる市稲垣町豊川初瀬63-15"},null,null,null,null,null,{"$f":"VLOOKUP(M19,宛名表!$B$3:$H$131,3,0)","v":"つがる市車力町花林37"}]
[null,{"$f":"VLOOKUP(A19,宛名表!$B$3:$H$131,4,0)","v":0},null,null,null,null,null,{"$f":"VLOOKUP(G19,宛名表!$B$3:$H$131,4,0)","v":0},null,null,null,null,null,{"$f":"VLOOKUP(M19,宛名表!$B$3:$H$131,4,0)","v":0}]
[null,{"$f":"VLOOKUP(A19,宛名表!$B$3:$H$131,2,0)","v":"辻村　潔"},null,null,{"$f":"VLOOKUP(A19,宛名表!$B$3:$H$131,7,0)","v":"様"},null,null,{"$f":"VLOOKUP(G19,宛名表!$B$3:$H$131,2,0)","v":"片山　秀光"},null,null,{"$f":"VLOOKUP(G19,宛名表!$B$3:$H$131,7,0)","v":"様"},null,null,{"$f":"VLOOKUP(M19,宛名表!$B$3:$H$131,2,0)","v":"佐々木　光司"},null,null,{"$f":"VLOOKUP(M19,宛名表!$B$3:$H$131,7,0)","v":"様"}]
[]
[5,null,null,null,null,null,13,null,null,null,null,null,21]
[null,{"$f":"IF(C26=0,\"\",\"〒\")","v":"〒"},{"$f":"VLOOKUP(A25,宛名表!$B$3:$H$131,5,0)","v":"036-8174"},null,null,null,null,{"$f":"IF(I26=0,\"\",\"〒\")","v":"〒"},{"$f":"VLOOKUP(G25,宛名表!$B$3:$H$131,5,0)","v":"034-0012"},null,null,null,null,{"$f":"IF(O26=0,\"\",\"〒\")","v":"〒"},{"$f":"VLOOKUP(M25,宛名表!$B$3:$H$131,5,0)","v":"030-0843"}]
[null,{"$f":"VLOOKUP(A25,宛名表!$B$3:$H$131,3,0)","v":"弘前市富野町18-23"},null,null,null,null,null,{"$f":"VLOOKUP(G25,宛名表!$B$3:$H$131,3,0)","v":"十和田市東一番町12-12"},null,null,null,null,null,{"$f":"VLOOKUP(M25,宛名表!$B$3:$H$131,3,0)","v":"青森市浜田玉川243-17"}]
[null,{"$f":"VLOOKUP(A25,宛名表!$B$3:$H$131,4,0)","v":0},null,null,null,null,null,{"$f":"VLOOKUP(G25,宛名表!$B$3:$H$131,4,0)","v":0},null,null,null,null,null,{"$f":"VLOOKUP(M25,宛名表!$B$3:$H$131,4,0)","v":0}]
[null,{"$f":"VLOOKUP(A25,宛名表!$B$3:$H$131,2,0)","v":"江川　寿之"},null,null,{"$f":"VLOOKUP(A25,宛名表!$B$3:$H$131,7,0)","v":"様"},null,null,{"$f":"VLOOKUP(G25,宛名表!$B$3:$H$131,2,0)","v":"河合　富夫"},null,null,{"$f":"VLOOKUP(G25,宛名表!$B$3:$H$131,7,0)","v":"様"},null,null,{"$f":"VLOOKUP(M25,宛名表!$B$3:$H$131,2,0)","v":"山本　寛男"},null,null,{"$f":"VLOOKUP(M25,宛名表!$B$3:$H$131,7,0)","v":"様"}]
[]
[6,null,null,null,null,null,14,null,null,null,null,null,22]
[null,{"$f":"IF(C32=0,\"\",\"〒\")","v":"〒"},{"$f":"VLOOKUP(A31,宛名表!$B$3:$H$131,5,0)","v":"036-8042"},null,null,null,null,{"$f":"IF(I32=0,\"\",\"〒\")","v":"〒"},{"$f":"VLOOKUP(G31,宛名表!$B$3:$H$131,5,0)","v":"033-0037"},null,null,null,null,{"$f":"IF(O32=0,\"\",\"〒\")","v":"〒"},{"$f":"VLOOKUP(M31,宛名表!$B$3:$H$131,5,0)","v":"039-1164"}]
[null,{"$f":"VLOOKUP(A31,宛名表!$B$3:$H$131,3,0)","v":"弘前市大字松ヶ枝二丁目5-4"},null,null,null,null,null,{"$f":"VLOOKUP(G31,宛名表!$B$3:$H$131,3,0)","v":"三沢市松園町二丁目7-4"},null,null,null,null,null,{"$f":"VLOOKUP(M31,宛名表!$B$3:$H$131,3,0)","v":"八戸市下長四丁目14-6A"}]
[null,{"$f":"VLOOKUP(A31,宛名表!$B$3:$H$131,4,0)","v":0},null,null,null,null,null,{"$f":"VLOOKUP(G31,宛名表!$B$3:$H$131,4,0)","v":0},null,null,null,null,null,{"$f":"VLOOKUP(M31,宛名表!$B$3:$H$131,4,0)","v":0}]
[null,{"$f":"VLOOKUP(A31,宛名表!$B$3:$H$131,2,0)","v":"森下　敏明"},null,null,{"$f":"VLOOKUP(A31,宛名表!$B$3:$H$131,7,0)","v":"様"},null,null,{"$f":"VLOOKUP(G31,宛名表!$B$3:$H$131,2,0)","v":"佐武薬品"},null,null,{"$f":"VLOOKUP(G31,宛名表!$B$3:$H$131,7,0)","v":"様"},null,null,{"$f":"VLOOKUP(M31,宛名表!$B$3:$H$131,2,0)","v":"高田　忠秋"},null,null,{"$f":"VLOOKUP(M31,宛名表!$B$3:$H$131,7,0)","v":"様"}]
[]
[7,null,null,null,null,null,15,null,null,null,null,null,23]
[null,{"$f":"IF(C38=0,\"\",\"〒\")","v":"〒"},{"$f":"VLOOKUP(A37,宛名表!$B$3:$H$131,5,0)","v":"036-0303"},null,null,null,null,{"$f":"IF(I38=0,\"\",\"〒\")","v":"〒"},{"$f":"VLOOKUP(G37,宛名表!$B$3:$H$131,5,0)","v":"039-3131"},null,null,null,null,{"$f":"IF(O38=0,\"\",\"〒\")","v":"〒"},{"$f":"VLOOKUP(M37,宛名表!$B$3:$H$131,5,0)","v":"030-0141"}]
[null,{"$f":"VLOOKUP(A37,宛名表!$B$3:$H$131,3,0)","v":"黒石市株梗木横丁27"},null,null,null,null,null,{"$f":"VLOOKUP(G37,宛名表!$B$3:$H$131,3,0)","v":"上北郡野辺地町野辺地269-1"},null,null,null,null,null,{"$f":"VLOOKUP(M37,宛名表!$B$3:$H$131,3,0)","v":"青森市上野字有原27-2"}]
[null,{"$f":"VLOOKUP(A37,宛名表!$B$3:$H$131,4,0)","v":0},null,null,null,null,null,{"$f":"VLOOKUP(G37,宛名表!$B$3:$H$131,4,0)","v":0},null,null,null,null,null,{"$f":"VLOOKUP(M37,宛名表!$B$3:$H$131,4,0)","v":0}]
[null,{"$f":"VLOOKUP(A37,宛名表!$B$3:$H$131,2,0)","v":"押上　与八"},null,null,{"$f":"VLOOKUP(A37,宛名表!$B$3:$H$131,7,0)","v":"様"},null,null,{"$f":"VLOOKUP(G37,宛名表!$B$3:$H$131,2,0)","v":"四十物　隆之"},null,null,{"$f":"VLOOKUP(G37,宛名表!$B$3:$H$131,7,0)","v":"様"},null,null,{"$f":"VLOOKUP(M37,宛名表!$B$3:$H$131,2,0)","v":"㈱Aｺｰﾌﾟ北東北 青森支店"},null,null,{"$f":"VLOOKUP(M37,宛名表!$B$3:$H$131,7,0)","v":"御中"}]
[]
[8,null,null,null,null,null,16,null,null,null,null,null,24]
[null,{"$f":"IF(C44=0,\"\",\"〒\")","v":"〒"},{"$f":"VLOOKUP(A43,宛名表!$B$3:$H$131,5,0)","v":"037-0006"},null,null,null,null,{"$f":"IF(I44=0,\"\",\"〒\")","v":"〒"},{"$f":"VLOOKUP(G43,宛名表!$B$3:$H$131,5,0)","v":"031-0072"},null,null,null,null,{"$f":"IF(O44=0,\"\",\"〒\")","v":"〒"},{"$f":"VLOOKUP(M43,宛名表!$B$3:$H$131,5,0)","v":"036-8095"}]
[null,{"$f":"VLOOKUP(A43,宛名表!$B$3:$H$131,3,0)","v":"五所川原市松島町四丁目12"},null,null,null,null,null,{"$f":"VLOOKUP(G43,宛名表!$B$3:$H$131,3,0)","v":"八戸市城下一丁目25-13"},null,null,null,null,null,{"$f":"VLOOKUP(M43,宛名表!$B$3:$H$131,3,0)","v":"弘前市大字城東一丁目10-14"}]
[null,{"$f":"VLOOKUP(A43,宛名表!$B$3:$H$131,4,0)","v":0},null,null,null,null,null,{"$f":"VLOOKUP(G43,宛名表!$B$3:$H$131,4,0)","v":0},null,null,null,null,null,{"$f":"VLOOKUP(M43,宛名表!$B$3:$H$131,4,0)","v":0}]
[null,{"$f":"VLOOKUP(A43,宛名表!$B$3:$H$131,2,0)","v":"高橋　由美子"},null,null,{"$f":"VLOOKUP(A43,宛名表!$B$3:$H$131,7,0)","v":"様"},null,null,{"$f":"VLOOKUP(G43,宛名表!$B$3:$H$131,2,0)","v":"樋口　純二"},null,null,{"$f":"VLOOKUP(G43,宛名表!$B$3:$H$131,7,0)","v":"様"},null,null,{"$f":"VLOOKUP(M43,宛名表!$B$3:$H$131,2,0)","v":"ﾎﾞﾆｰ薬品㈱"},null,null,{"$f":"VLOOKUP(M43,宛名表!$B$3:$H$131,7,0)","v":"御中"}]
[]
[25,null,null,null,null,null,33,null,null,null,null,null,41]
[null,{"$f":"IF(C50=0,\"\",\"〒\")","v":"〒"},{"$f":"VLOOKUP(A49,宛名表!$B$3:$H$131,5,0)","v":"036-8051"},null,null,null,null,{"$f":"IF(I50=0,\"\",\"〒\")","v":"〒"},{"$f":"VLOOKUP(G49,宛名表!$B$3:$H$131,5,0)","v":"039-1164"},null,null,null,null,{"$f":"IF(O50=0,\"\",\"〒\")","v":"〒"},{"$f":"VLOOKUP(M49,宛名表!$B$3:$H$131,5,0)","v":"939-0536"}]
[null,{"$f":"VLOOKUP(A49,宛名表!$B$3:$H$131,3,0)","v":"弘前市大字宮川一丁目2-10"},null,null,null,null,null,{"$f":"VLOOKUP(G49,宛名表!$B$3:$H$131,3,0)","v":"八戸市青葉1-9-36"},null,null,null,null,null,{"$f":"VLOOKUP(M49,宛名表!$B$3:$H$131,3,0)","v":"富山市水橋柳寺80番地"}]
[null,{"$f":"VLOOKUP(A49,宛名表!$B$3:$H$131,4,0)","v":0},null,null,null,null,null,{"$f":"VLOOKUP(G49,宛名表!$B$3:$H$131,4,0)","v":0},null,null,null,null,null,{"$f":"VLOOKUP(M49,宛名表!$B$3:$H$131,4,0)","v":0}]
[null,{"$f":"VLOOKUP(A49,宛名表!$B$3:$H$131,2,0)","v":"㈱大心中井薬品"},null,null,{"$f":"VLOOKUP(A49,宛名表!$B$3:$H$131,7,0)","v":"御中"},null,null,{"$f":"VLOOKUP(G49,宛名表!$B$3:$H$131,2,0)","v":"三洋薬品株式会社"},null,null,{"$f":"VLOOKUP(G49,宛名表!$B$3:$H$131,7,0)","v":"御中"},null,null,{"$f":"VLOOKUP(M49,宛名表!$B$3:$H$131,2,0)","v":"伊井　繁盛"},null,null,{"$f":"VLOOKUP(M49,宛名表!$B$3:$H$131,7,0)","v":"様"}]
[]
[26,null,null,null,null,null,34,null,null,null,null,null,42]
[null,{"$f":"IF(C56=0,\"\",\"〒\")","v":"〒"},{"$f":"VLOOKUP(A55,宛名表!$B$3:$H$131,5,0)","v":"037-0016"},null,null,null,null,{"$f":"IF(I56=0,\"\",\"〒\")","v":"〒"},{"$f":"VLOOKUP(G55,宛名表!$B$3:$H$131,5,0)","v":"939-3515"},null,null,null,null,{"$f":"IF(O56=0,\"\",\"〒\")","v":"〒"},{"$f":"VLOOKUP(M55,宛名表!$B$3:$H$131,5,0)","v":"930-0351"}]
[null,{"$f":"VLOOKUP(A55,宛名表!$B$3:$H$131,3,0)","v":"五所川原市鎌谷町524-19"},null,null,null,null,null,{"$f":"VLOOKUP(G55,宛名表!$B$3:$H$131,3,0)","v":"富山市水橋辻ｹ堂2028番地"},null,null,null,null,null,{"$f":"VLOOKUP(M55,宛名表!$B$3:$H$131,3,0)","v":"中新川郡上市町北島88番地"}]
[null,{"$f":"VLOOKUP(A55,宛名表!$B$3:$H$131,4,0)","v":0},null,null,null,null,null,{"$f":"VLOOKUP(G55,宛名表!$B$3:$H$131,4,0)","v":0},null,null,null,null,null,{"$f":"VLOOKUP(M55,宛名表!$B$3:$H$131,4,0)","v":0}]
[null,{"$f":"VLOOKUP(A55,宛名表!$B$3:$H$131,2,0)","v":"東北ｽﾊﾟｰｸ薬品㈱"},null,null,{"$f":"VLOOKUP(A55,宛名表!$B$3:$H$131,7,0)","v":"御中"},null,null,{"$f":"VLOOKUP(G55,宛名表!$B$3:$H$131,2,0)","v":"水口　章"},null,null,{"$f":"VLOOKUP(G55,宛名表!$B$3:$H$131,7,0)","v":"様"},null,null,{"$f":"VLOOKUP(M55,宛名表!$B$3:$H$131,2,0)","v":"山本　喜代次"},null,null,{"$f":"VLOOKUP(M55,宛名表!$B$3:$H$131,7,0)","v":"様"}]
[]
[27,null,null,null,null,null,35,null,null,null,null,null,43]
[null,{"$f":"IF(C62=0,\"\",\"〒\")","v":"〒"},{"$f":"VLOOKUP(A61,宛名表!$B$3:$H$131,5,0)","v":"039-2401"},null,null,null,null,{"$f":"IF(I62=0,\"\",\"〒\")","v":"〒"},{"$f":"VLOOKUP(G61,宛名表!$B$3:$H$131,5,0)","v":"939-0526"},null,null,null,null,{"$f":"IF(O62=0,\"\",\"〒\")","v":"〒"},{"$f":"VLOOKUP(M61,宛名表!$B$3:$H$131,5,0)","v":"936-0053"}]
[null,{"$f":"VLOOKUP(A61,宛名表!$B$3:$H$131,3,0)","v":"上北郡東北町上北北二丁目33-109"},null,null,null,null,null,{"$f":"VLOOKUP(G61,宛名表!$B$3:$H$131,3,0)","v":"富山市水橋館町411番地"},null,null,null,null,null,{"$f":"VLOOKUP(M61,宛名表!$B$3:$H$131,3,0)","v":"滑川市上小泉1675番地の3"}]
[null,{"$f":"VLOOKUP(A61,宛名表!$B$3:$H$131,4,0)","v":0},null,null,null,null,null,{"$f":"VLOOKUP(G61,宛名表!$B$3:$H$131,4,0)","v":0},null,null,null,null,null,{"$f":"VLOOKUP(M61,宛名表!$B$3:$H$131,4,0)","v":0}]
[null,{"$f":"VLOOKUP(A61,宛名表!$B$3:$H$131,2,0)","v":"㈲孝文堂"},null,null,{"$f":"VLOOKUP(A61,宛名表!$B$3:$H$131,7,0)","v":"御中"},null,null,{"$f":"VLOOKUP(G61,宛名表!$B$3:$H$131,2,0)","v":"㈲上田資生堂"},null,null,{"$f":"VLOOKUP(G61,宛名表!$B$3:$H$131,7,0)","v":"御中"},null,null,{"$f":"VLOOKUP(M61,宛名表!$B$3:$H$131,2,0)","v":"大門　和平"},null,null,{"$f":"VLOOKUP(M61,宛名表!$B$3:$H$131,7,0)","v":"様"}]
[]
[28,null,null,null,null,null,36,null,null,null,null,null,44]
[null,{"$f":"IF(C68=0,\"\",\"〒\")","v":"〒"},{"$f":"VLOOKUP(A67,宛名表!$B$3:$H$131,5,0)","v":"030-1262"},null,null,null,null,{"$f":"IF(I68=0,\"\",\"〒\")","v":"〒"},{"$f":"VLOOKUP(G67,宛名表!$B$3:$H$131,5,0)","v":"933-0253"},null,null,null,null,{"$f":"IF(O68=0,\"\",\"〒\")","v":"〒"},{"$f":"VLOOKUP(M67,宛名表!$B$3:$H$131,5,0)","v":"939-0513"}]
[null,{"$f":"VLOOKUP(A67,宛名表!$B$3:$H$131,3,0)","v":"青森市大字後潟字平野61-3"},null,null,null,null,null,{"$f":"VLOOKUP(G67,宛名表!$B$3:$H$131,3,0)","v":"新湊市七美中野94番地"},null,null,null,null,null,{"$f":"VLOOKUP(M67,宛名表!$B$3:$H$131,3,0)","v":"富山市水橋中出町934番地"}]
[null,{"$f":"VLOOKUP(A67,宛名表!$B$3:$H$131,4,0)","v":0},null,null,null,null,null,{"$f":"VLOOKUP(G67,宛名表!$B$3:$H$131,4,0)","v":0},null,null,null,null,null,{"$f":"VLOOKUP(M67,宛名表!$B$3:$H$131,4,0)","v":0}]
[null,{"$f":"VLOOKUP(A67,宛名表!$B$3:$H$131,2,0)","v":"㈲関原薬品"},null,null,{"$f":"VLOOKUP(A67,宛名表!$B$3:$H$131,7,0)","v":"御中"},null,null,{"$f":"VLOOKUP(G67,宛名表!$B$3:$H$131,2,0)","v":"竹内　彰一"},null,null,{"$f":"VLOOKUP(G67,宛名表!$B$3:$H$131,7,0)","v":"様"},null,null,{"$f":"VLOOKUP(M67,宛名表!$B$3:$H$131,2,0)","v":"森　忠夫"},null,null,{"$f":"VLOOKUP(M67,宛名表!$B$3:$H$131,7,0)","v":"様"}]
[]
[29,null,null,null,null,null,37,null,null,null,null,null,45]
[null,{"$f":"IF(C74=0,\"\",\"〒\")","v":"〒"},{"$f":"VLOOKUP(A73,宛名表!$B$3:$H$131,5,0)","v":"035-0032"},null,null,null,null,{"$f":"IF(I74=0,\"\",\"〒\")","v":"〒"},{"$f":"VLOOKUP(G73,宛名表!$B$3:$H$131,5,0)","v":"939-0526"},null,null,null,null,{"$f":"IF(O74=0,\"\",\"〒\")","v":"〒"},{"$f":"VLOOKUP(M73,宛名表!$B$3:$H$131,5,0)","v":"930-0816"}]
[null,{"$f":"VLOOKUP(A73,宛名表!$B$3:$H$131,3,0)","v":"むつ市上川町7-4"},null,null,null,null,null,{"$f":"VLOOKUP(G73,宛名表!$B$3:$H$131,3,0)","v":"富山市水橋館町212番地の9"},null,null,null,null,null,{"$f":"VLOOKUP(M73,宛名表!$B$3:$H$131,3,0)","v":"富山市上赤江町2-11-32-502"}]
[null,{"$f":"VLOOKUP(A73,宛名表!$B$3:$H$131,4,0)","v":0},null,null,null,null,null,{"$f":"VLOOKUP(G73,宛名表!$B$3:$H$131,4,0)","v":0},null,null,null,null,null,{"$f":"VLOOKUP(M73,宛名表!$B$3:$H$131,4,0)","v":0}]
[null,{"$f":"VLOOKUP(A73,宛名表!$B$3:$H$131,2,0)","v":"㈲高島進盛堂薬品"},null,null,{"$f":"VLOOKUP(A73,宛名表!$B$3:$H$131,7,0)","v":"御中"},null,null,{"$f":"VLOOKUP(G73,宛名表!$B$3:$H$131,2,0)","v":"坂下　端"},null,null,{"$f":"VLOOKUP(G73,宛名表!$B$3:$H$131,7,0)","v":"様"},null,null,{"$f":"VLOOKUP(M73,宛名表!$B$3:$H$131,2,0)","v":"上田　恭子"},null,null,{"$f":"VLOOKUP(M73,宛名表!$B$3:$H$131,7,0)","v":"様"}]
[]
[30,null,null,null,null,null,38,null,null,null,null,null,46]
[null,{"$f":"IF(C80=0,\"\",\"〒\")","v":"〒"},{"$f":"VLOOKUP(A79,宛名表!$B$3:$H$131,5,0)","v":"036-8093"},null,null,null,null,{"$f":"IF(I80=0,\"\",\"〒\")","v":"〒"},{"$f":"VLOOKUP(G79,宛名表!$B$3:$H$131,5,0)","v":"939-0401"},null,null,null,null,{"$f":"IF(O80=0,\"\",\"〒\")","v":"〒"},{"$f":"VLOOKUP(M79,宛名表!$B$3:$H$131,5,0)","v":"028-6103"}]
[null,{"$f":"VLOOKUP(A79,宛名表!$B$3:$H$131,3,0)","v":"弘前市城東中央五丁目4-3"},null,null,null,null,null,{"$f":"VLOOKUP(G79,宛名表!$B$3:$H$131,3,0)","v":"射水郡大門町水戸田902番地"},null,null,null,null,null,{"$f":"VLOOKUP(M79,宛名表!$B$3:$H$131,3,0)","v":"二戸市石切所台中平60-1"}]
[null,{"$f":"VLOOKUP(A79,宛名表!$B$3:$H$131,4,0)","v":0},null,null,null,null,null,{"$f":"VLOOKUP(G79,宛名表!$B$3:$H$131,4,0)","v":0},null,null,null,null,null,{"$f":"VLOOKUP(M79,宛名表!$B$3:$H$131,4,0)","v":0}]
[null,{"$f":"VLOOKUP(A79,宛名表!$B$3:$H$131,2,0)","v":"ﾏｷﾉ薬品㈱　"},null,null,{"$f":"VLOOKUP(A79,宛名表!$B$3:$H$131,7,0)","v":"御中"},null,null,{"$f":"VLOOKUP(G79,宛名表!$B$3:$H$131,2,0)","v":"堀　豊治"},null,null,{"$f":"VLOOKUP(G79,宛名表!$B$3:$H$131,7,0)","v":"様"},null,null,{"$f":"VLOOKUP(M79,宛名表!$B$3:$H$131,2,0)","v":"㈱かねもり薬品 二戸営業所"},null,null,{"$f":"VLOOKUP(M79,宛名表!$B$3:$H$131,7,0)","v":"御中"}]
[]
[31,null,null,null,null,null,39,null,null,null,null,null,47]
[null,{"$f":"IF(C86=0,\"\",\"〒\")","v":"〒"},{"$f":"VLOOKUP(A85,宛名表!$B$3:$H$131,5,0)","v":"035-0053"},null,null,null,null,{"$f":"IF(I86=0,\"\",\"〒\")","v":"〒"},{"$f":"VLOOKUP(G85,宛名表!$B$3:$H$131,5,0)","v":"933-0252"},null,null,null,null,{"$f":"IF(O86=0,\"\",\"〒\")","v":"〒"},{"$f":"VLOOKUP(M85,宛名表!$B$3:$H$131,5,0)","v":"639-2147"}]
[null,{"$f":"VLOOKUP(A85,宛名表!$B$3:$H$131,3,0)","v":"むつ市みどり町18-55"},null,null,null,null,null,{"$f":"VLOOKUP(G85,宛名表!$B$3:$H$131,3,0)","v":"新湊市七美95番地"},null,null,null,null,null,{"$f":"VLOOKUP(M85,宛名表!$B$3:$H$131,3,0)","v":"葛城市新庄121番地"}]
[null,{"$f":"VLOOKUP(A85,宛名表!$B$3:$H$131,4,0)","v":0},null,null,null,null,null,{"$f":"VLOOKUP(G85,宛名表!$B$3:$H$131,4,0)","v":0},null,null,null,null,null,{"$f":"VLOOKUP(M85,宛名表!$B$3:$H$131,4,0)","v":0}]
[null,{"$f":"VLOOKUP(A85,宛名表!$B$3:$H$131,2,0)","v":"佐々木博盛堂　"},null,null,{"$f":"VLOOKUP(A85,宛名表!$B$3:$H$131,7,0)","v":"御中"},null,null,{"$f":"VLOOKUP(G85,宛名表!$B$3:$H$131,2,0)","v":"岩口　寛"},null,null,{"$f":"VLOOKUP(G85,宛名表!$B$3:$H$131,7,0)","v":"様"},null,null,{"$f":"VLOOKUP(M85,宛名表!$B$3:$H$131,2,0)","v":"永井  利憲"},null,null,{"$f":"VLOOKUP(M85,宛名表!$B$3:$H$131,7,0)","v":"様"}]
[]
[32,null,null,null,null,null,40,null,null,null,null,null,48]
[null,{"$f":"IF(C92=0,\"\",\"〒\")","v":"〒"},{"$f":"VLOOKUP(A91,宛名表!$B$3:$H$131,5,0)","v":"036-8171"},null,null,null,null,{"$f":"IF(I92=0,\"\",\"〒\")","v":"〒"},{"$f":"VLOOKUP(G91,宛名表!$B$3:$H$131,5,0)","v":"939-3515"},null,null,null,null,{"$f":"IF(O92=0,\"\",\"〒\")","v":"〒"},{"$f":"VLOOKUP(M91,宛名表!$B$3:$H$131,5,0)","v":"605-0141"}]
[null,{"$f":"VLOOKUP(A91,宛名表!$B$3:$H$131,3,0)","v":"弘前市大字取上二丁目3-14"},null,null,null,null,null,{"$f":"VLOOKUP(G91,宛名表!$B$3:$H$131,3,0)","v":"富山市水橋辻ｹ堂1700番地"},null,null,null,null,null,{"$f":"VLOOKUP(M91,宛名表!$B$3:$H$131,3,0)","v":"高市郡高取町与楽143番地"}]
[null,{"$f":"VLOOKUP(A91,宛名表!$B$3:$H$131,4,0)","v":0},null,null,null,null,null,{"$f":"VLOOKUP(G91,宛名表!$B$3:$H$131,4,0)","v":0},null,null,null,null,null,{"$f":"VLOOKUP(M91,宛名表!$B$3:$H$131,4,0)","v":0}]
[null,{"$f":"VLOOKUP(A91,宛名表!$B$3:$H$131,2,0)","v":"㈱SKG"},null,null,{"$f":"VLOOKUP(A91,宛名表!$B$3:$H$131,7,0)","v":"御中"},null,null,{"$f":"VLOOKUP(G91,宛名表!$B$3:$H$131,2,0)","v":"堂口　信治"},null,null,{"$f":"VLOOKUP(G91,宛名表!$B$3:$H$131,7,0)","v":"様"},null,null,{"$f":"VLOOKUP(M91,宛名表!$B$3:$H$131,2,0)","v":"森川  雅朗"},null,null,{"$f":"VLOOKUP(M91,宛名表!$B$3:$H$131,7,0)","v":"様"}]
[]
[49,null,null,null,null,null,57,null,null,null,null,null,65]
[null,{"$f":"IF(C98=0,\"\",\"〒\")","v":"〒"},{"$f":"VLOOKUP(A97,宛名表!$B$3:$H$131,5,0)","v":"683-0014"},null,null,null,null,{"$f":"IF(I98=0,\"\",\"〒\")","v":""},{"$f":"VLOOKUP(G97,宛名表!$B$3:$H$131,5,0)","v":0},null,null,null,null,{"$f":"IF(O98=0,\"\",\"〒\")","v":""},{"$f":"VLOOKUP(M97,宛名表!$B$3:$H$131,5,0)","v":0}]
[null,{"$f":"VLOOKUP(A97,宛名表!$B$3:$H$131,3,0)","v":"米子市永江240 県営住宅50-2"},null,null,null,null,null,{"$f":"VLOOKUP(G97,宛名表!$B$3:$H$131,3,0)","v":0},null,null,null,null,null,{"$f":"VLOOKUP(M97,宛名表!$B$3:$H$131,3,0)","v":0}]
[null,{"$f":"VLOOKUP(A97,宛名表!$B$3:$H$131,4,0)","v":0},null,null,null,null,null,{"$f":"VLOOKUP(G97,宛名表!$B$3:$H$131,4,0)","v":0},null,null,null,null,null,{"$f":"VLOOKUP(M97,宛名表!$B$3:$H$131,4,0)","v":0}]
[null,{"$f":"VLOOKUP(A97,宛名表!$B$3:$H$131,2,0)","v":"保田　優"},null,null,{"$f":"VLOOKUP(A97,宛名表!$B$3:$H$131,7,0)","v":"様"},null,null,{"$f":"VLOOKUP(G97,宛名表!$B$3:$H$131,2,0)","v":0},null,null,{"$f":"VLOOKUP(G97,宛名表!$B$3:$H$131,7,0)","v":0},null,null,{"$f":"VLOOKUP(M97,宛名表!$B$3:$H$131,2,0)","v":0},null,null,{"$f":"VLOOKUP(M97,宛名表!$B$3:$H$131,7,0)","v":0}]
[]
[50,null,null,null,null,null,58,null,null,null,null,null,66]
[null,{"$f":"IF(C104=0,\"\",\"〒\")","v":"〒"},{"$f":"VLOOKUP(A103,宛名表!$B$3:$H$131,5,0)","v":"537‐0024"},null,null,null,null,{"$f":"IF(I104=0,\"\",\"〒\")","v":""},{"$f":"VLOOKUP(G103,宛名表!$B$3:$H$131,5,0)","v":0},null,null,null,null,{"$f":"IF(O104=0,\"\",\"〒\")","v":""},{"$f":"VLOOKUP(M103,宛名表!$B$3:$H$131,5,0)","v":0}]
[null,{"$f":"VLOOKUP(A103,宛名表!$B$3:$H$131,3,0)","v":"大阪市東成区東小橋2丁目4-10"},null,null,null,null,null,{"$f":"VLOOKUP(G103,宛名表!$B$3:$H$131,3,0)","v":0},null,null,null,null,null,{"$f":"VLOOKUP(M103,宛名表!$B$3:$H$131,3,0)","v":0}]
[null,{"$f":"VLOOKUP(A103,宛名表!$B$3:$H$131,4,0)","v":0},null,null,null,null,null,{"$f":"VLOOKUP(G103,宛名表!$B$3:$H$131,4,0)","v":0},null,null,null,null,null,{"$f":"VLOOKUP(M103,宛名表!$B$3:$H$131,4,0)","v":0}]
[null,{"$f":"VLOOKUP(A103,宛名表!$B$3:$H$131,2,0)","v":"上田　平次"},null,null,{"$f":"VLOOKUP(A103,宛名表!$B$3:$H$131,7,0)","v":"様"},null,null,{"$f":"VLOOKUP(G103,宛名表!$B$3:$H$131,2,0)","v":0},null,null,{"$f":"VLOOKUP(G103,宛名表!$B$3:$H$131,7,0)","v":0},null,null,{"$f":"VLOOKUP(M103,宛名表!$B$3:$H$131,2,0)","v":0},null,null,{"$f":"VLOOKUP(M103,宛名表!$B$3:$H$131,7,0)","v":0}]
[]
[51,null,null,null,null,null,59,null,null,null,null,null,67]
[null,{"$f":"IF(C110=0,\"\",\"〒\")","v":"〒"},{"$f":"VLOOKUP(A109,宛名表!$B$3:$H$131,5,0)","v":"041-0813"},null,null,null,null,{"$f":"IF(I110=0,\"\",\"〒\")","v":""},{"$f":"VLOOKUP(G109,宛名表!$B$3:$H$131,5,0)","v":0},null,null,null,null,{"$f":"IF(O110=0,\"\",\"〒\")","v":""},{"$f":"VLOOKUP(M109,宛名表!$B$3:$H$131,5,0)","v":0}]
[null,{"$f":"VLOOKUP(A109,宛名表!$B$3:$H$131,3,0)","v":"函館市亀田本町20番地17"},null,null,null,null,null,{"$f":"VLOOKUP(G109,宛名表!$B$3:$H$131,3,0)","v":0},null,null,null,null,null,{"$f":"VLOOKUP(M109,宛名表!$B$3:$H$131,3,0)","v":0}]
[null,{"$f":"VLOOKUP(A109,宛名表!$B$3:$H$131,4,0)","v":0},null,null,null,null,null,{"$f":"VLOOKUP(G109,宛名表!$B$3:$H$131,4,0)","v":0},null,null,null,null,null,{"$f":"VLOOKUP(M109,宛名表!$B$3:$H$131,4,0)","v":0}]
[null,{"$f":"VLOOKUP(A109,宛名表!$B$3:$H$131,2,0)","v":"武村　英人"},null,null,{"$f":"VLOOKUP(A109,宛名表!$B$3:$H$131,7,0)","v":"様"},null,null,{"$f":"VLOOKUP(G109,宛名表!$B$3:$H$131,2,0)","v":0},null,null,{"$f":"VLOOKUP(G109,宛名表!$B$3:$H$131,7,0)","v":0},null,null,{"$f":"VLOOKUP(M109,宛名表!$B$3:$H$131,2,0)","v":0},null,null,{"$f":"VLOOKUP(M109,宛名表!$B$3:$H$131,7,0)","v":0}]
[]
[52,null,null,null,null,null,60,null,null,null,null,null,68]
[null,{"$f":"IF(C116=0,\"\",\"〒\")","v":"〒"},{"$f":"VLOOKUP(A115,宛名表!$B$3:$H$131,5,0)","v":"027-0054"},null,null,null,null,{"$f":"IF(I116=0,\"\",\"〒\")","v":""},{"$f":"VLOOKUP(G115,宛名表!$B$3:$H$131,5,0)","v":0},null,null,null,null,{"$f":"IF(O116=0,\"\",\"〒\")","v":""},{"$f":"VLOOKUP(M115,宛名表!$B$3:$H$131,5,0)","v":0}]
[null,{"$f":"VLOOKUP(A115,宛名表!$B$3:$H$131,3,0)","v":"宮古市太田一丁目8番地36"},null,null,null,null,null,{"$f":"VLOOKUP(G115,宛名表!$B$3:$H$131,3,0)","v":0},null,null,null,null,null,{"$f":"VLOOKUP(M115,宛名表!$B$3:$H$131,3,0)","v":0}]
[null,{"$f":"VLOOKUP(A115,宛名表!$B$3:$H$131,4,0)","v":0},null,null,null,null,null,{"$f":"VLOOKUP(G115,宛名表!$B$3:$H$131,4,0)","v":0},null,null,null,null,null,{"$f":"VLOOKUP(M115,宛名表!$B$3:$H$131,4,0)","v":0}]
[null,{"$f":"VLOOKUP(A115,宛名表!$B$3:$H$131,2,0)","v":"梶原　孝夫"},null,null,{"$f":"VLOOKUP(A115,宛名表!$B$3:$H$131,7,0)","v":"様"},null,null,{"$f":"VLOOKUP(G115,宛名表!$B$3:$H$131,2,0)","v":0},null,null,{"$f":"VLOOKUP(G115,宛名表!$B$3:$H$131,7,0)","v":0},null,null,{"$f":"VLOOKUP(M115,宛名表!$B$3:$H$131,2,0)","v":0},null,null,{"$f":"VLOOKUP(M115,宛名表!$B$3:$H$131,7,0)","v":0}]
[]
[53,null,null,null,null,null,61,null,null,null,null,null,69]
[null,{"$f":"IF(C122=0,\"\",\"〒\")","v":"〒"},{"$f":"VLOOKUP(A121,宛名表!$B$3:$H$131,5,0)","v":"041-0841"},null,null,null,null,{"$f":"IF(I122=0,\"\",\"〒\")","v":""},{"$f":"VLOOKUP(G121,宛名表!$B$3:$H$131,5,0)","v":0},null,null,null,null,{"$f":"IF(O122=0,\"\",\"〒\")","v":""},{"$f":"VLOOKUP(M121,宛名表!$B$3:$H$131,5,0)","v":0}]
[null,{"$f":"VLOOKUP(A121,宛名表!$B$3:$H$131,3,0)","v":"函館市美原町一丁目20-7"},null,null,null,null,null,{"$f":"VLOOKUP(G121,宛名表!$B$3:$H$131,3,0)","v":0},null,null,null,null,null,{"$f":"VLOOKUP(M121,宛名表!$B$3:$H$131,3,0)","v":0}]
[null,{"$f":"VLOOKUP(A121,宛名表!$B$3:$H$131,4,0)","v":0},null,null,null,null,null,{"$f":"VLOOKUP(G121,宛名表!$B$3:$H$131,4,0)","v":0},null,null,null,null,null,{"$f":"VLOOKUP(M121,宛名表!$B$3:$H$131,4,0)","v":0}]
[null,{"$f":"VLOOKUP(A121,宛名表!$B$3:$H$131,2,0)","v":"㈲雪の元"},null,null,{"$f":"VLOOKUP(A121,宛名表!$B$3:$H$131,7,0)","v":"御中"},null,null,{"$f":"VLOOKUP(G121,宛名表!$B$3:$H$131,2,0)","v":0},null,null,{"$f":"VLOOKUP(G121,宛名表!$B$3:$H$131,7,0)","v":0},null,null,{"$f":"VLOOKUP(M121,宛名表!$B$3:$H$131,2,0)","v":0},null,null,{"$f":"VLOOKUP(M121,宛名表!$B$3:$H$131,7,0)","v":0}]
[]
[54,null,null,null,null,null,62,null,null,null,null,null,70]
[null,{"$f":"IF(C128=0,\"\",\"〒\")","v":"〒"},{"$f":"VLOOKUP(A127,宛名表!$B$3:$H$131,5,0)","v":"639-2245"},null,null,null,null,{"$f":"IF(I128=0,\"\",\"〒\")","v":""},{"$f":"VLOOKUP(G127,宛名表!$B$3:$H$131,5,0)","v":0},null,null,null,null,{"$f":"IF(O128=0,\"\",\"〒\")","v":""},{"$f":"VLOOKUP(M127,宛名表!$B$3:$H$131,5,0)","v":0}]
[null,{"$f":"VLOOKUP(A127,宛名表!$B$3:$H$131,3,0)","v":"御所市今住700-1"},null,null,null,null,null,{"$f":"VLOOKUP(G127,宛名表!$B$3:$H$131,3,0)","v":0},null,null,null,null,null,{"$f":"VLOOKUP(M127,宛名表!$B$3:$H$131,3,0)","v":0}]
[null,{"$f":"VLOOKUP(A127,宛名表!$B$3:$H$131,4,0)","v":0},null,null,null,null,null,{"$f":"VLOOKUP(G127,宛名表!$B$3:$H$131,4,0)","v":0},null,null,null,null,null,{"$f":"VLOOKUP(M127,宛名表!$B$3:$H$131,4,0)","v":0}]
[null,{"$f":"VLOOKUP(A127,宛名表!$B$3:$H$131,2,0)","v":"㈱三光丸"},null,null,{"$f":"VLOOKUP(A127,宛名表!$B$3:$H$131,7,0)","v":"御中"},null,null,{"$f":"VLOOKUP(G127,宛名表!$B$3:$H$131,2,0)","v":0},null,null,{"$f":"VLOOKUP(G127,宛名表!$B$3:$H$131,7,0)","v":0},null,null,{"$f":"VLOOKUP(M127,宛名表!$B$3:$H$131,2,0)","v":0},null,null,{"$f":"VLOOKUP(M127,宛名表!$B$3:$H$131,7,0)","v":0}]
[]
[55,null,null,null,null,null,63,null,null,null,null,null,71]
[null,{"$f":"IF(C134=0,\"\",\"〒\")","v":"〒"},{"$f":"VLOOKUP(A133,宛名表!$B$3:$H$131,5,0)","v":"017-0847"},null,null,null,null,{"$f":"IF(I134=0,\"\",\"〒\")","v":""},{"$f":"VLOOKUP(G133,宛名表!$B$3:$H$131,5,0)","v":0},null,null,null,null,{"$f":"IF(O134=0,\"\",\"〒\")","v":""},{"$f":"VLOOKUP(M133,宛名表!$B$3:$H$131,5,0)","v":0}]
[null,{"$f":"VLOOKUP(A133,宛名表!$B$3:$H$131,3,0)","v":"大館宮市幸町16番地16"},null,null,null,null,null,{"$f":"VLOOKUP(G133,宛名表!$B$3:$H$131,3,0)","v":0},null,null,null,null,null,{"$f":"VLOOKUP(M133,宛名表!$B$3:$H$131,3,0)","v":0}]
[null,{"$f":"VLOOKUP(A133,宛名表!$B$3:$H$131,4,0)","v":0},null,null,null,null,null,{"$f":"VLOOKUP(G133,宛名表!$B$3:$H$131,4,0)","v":0},null,null,null,null,null,{"$f":"VLOOKUP(M133,宛名表!$B$3:$H$131,4,0)","v":0}]
[null,{"$f":"VLOOKUP(A133,宛名表!$B$3:$H$131,2,0)","v":"水口　輝夫"},null,null,{"$f":"VLOOKUP(A133,宛名表!$B$3:$H$131,7,0)","v":"様"},null,null,{"$f":"VLOOKUP(G133,宛名表!$B$3:$H$131,2,0)","v":0},null,null,{"$f":"VLOOKUP(G133,宛名表!$B$3:$H$131,7,0)","v":0},null,null,{"$f":"VLOOKUP(M133,宛名表!$B$3:$H$131,2,0)","v":0},null,null,{"$f":"VLOOKUP(M133,宛名表!$B$3:$H$131,7,0)","v":0}]
[]
[56,null,null,null,null,null,64,null,null,null,null,null,72]
[null,{"$f":"IF(C140=0,\"\",\"〒\")","v":""},{"$f":"VLOOKUP(A139,宛名表!$B$3:$H$131,5,0)","v":0},null,null,null,null,{"$f":"IF(I140=0,\"\",\"〒\")","v":""},{"$f":"VLOOKUP(G139,宛名表!$B$3:$H$131,5,0)","v":0},null,null,null,null,{"$f":"IF(O140=0,\"\",\"〒\")","v":""},{"$f":"VLOOKUP(M139,宛名表!$B$3:$H$131,5,0)","v":0}]
[null,{"$f":"VLOOKUP(A139,宛名表!$B$3:$H$131,3,0)","v":0},null,null,null,null,null,{"$f":"VLOOKUP(G139,宛名表!$B$3:$H$131,3,0)","v":0},null,null,null,null,null,{"$f":"VLOOKUP(M139,宛名表!$B$3:$H$131,3,0)","v":0}]
[null,{"$f":"VLOOKUP(A139,宛名表!$B$3:$H$131,4,0)","v":0},null,null,null,null,null,{"$f":"VLOOKUP(G139,宛名表!$B$3:$H$131,4,0)","v":0},null,null,null,null,null,{"$f":"VLOOKUP(M139,宛名表!$B$3:$H$131,4,0)","v":0}]
[null,{"$f":"VLOOKUP(A139,宛名表!$B$3:$H$131,2,0)","v":0},null,null,{"$f":"VLOOKUP(A139,宛名表!$B$3:$H$131,7,0)","v":0},null,null,{"$f":"VLOOKUP(G139,宛名表!$B$3:$H$131,2,0)","v":0},null,null,{"$f":"VLOOKUP(G139,宛名表!$B$3:$H$131,7,0)","v":0},null,null,{"$f":"VLOOKUP(M139,宛名表!$B$3:$H$131,2,0)","v":0},null,null,{"$f":"VLOOKUP(M139,宛名表!$B$3:$H$131,7,0)","v":0}]

{"sheet":"宛名ﾗﾍﾞﾙ","index":3,"n_rows":44,"n_cols":21,"rows_kept":44,"cut":false,"hidden":false,"merged":[[40,3,40,6],[41,3,41,6],[43,3,43,5],[43,10,43,12],[40,10,40,13],[41,10,41,13],[43,6,43,7],[43,13,43,14],[36,3,36,5],[36,10,36,12],[36,6,36,7],[36,13,36,14],[33,3,33,6],[34,3,34,6],[33,10,33,13],[34,10,34,13],[26,10,26,13],[27,10,27,13],[29,10,29,12],[29,13,29,14],[26,3,26,6],[27,3,27,6],[29,3,29,5],[29,6,29,7],[19,10,19,13],[20,10,20,13],[22,10,22,12],[22,13,22,14],[19,3,19,6],[20,3,20,6],[22,3,22,5],[22,6,22,7],[12,10,12,13],[13,10,13,13],[15,10,15,12],[15,13,15,14],[12,3,12,6],[13,3,13,6],[15,3,15,5],[15,6,15,7],[4,10,4,13],[5,10,5,13],[7,10,8,12],[7,13,8,14],[4,3,4,6],[5,3,5,6],[7,3,8,5],[7,6,8,7]]}
[]
[]
[]
[null,null,null,{"$f":"IF(E4=\"\",\"\",\"〒\")","v":""},{"$f":"IF(T4=\"\",\"\",LOOKUP(T4,宛名表!$B$3:$B$131,宛名表!$F$3:$F$131))","v":""},null,null,null,null,null,{"$f":"IF(L4=\"\",\"\",\"〒\")","v":""},{"$f":"IF(V4=\"\",\"\",LOOKUP(V4,宛名表!$B$3:$B$131,宛名表!$F$3:$F$131))","v":""},null,null,null,null,null,null,1,null,7]
[null,null,null,{"$f":"IF($T4=\"\",\"\",LOOKUP($T4,宛名表!$B$3:$B$131,宛名表!$D$3:$D$131))","v":""},null,null,null,null,null,null,{"$f":"IF(V4=\"\",\"\",LOOKUP(V4,宛名表!$B$3:$B$131,宛名表!$D$3:$D$131))","v":""},null,null,null,null,null,null,null,2,null,8]
[null,null,null,{"$f":"IF($T4=\"\",\"\",LOOKUP($T4,宛名表!$B$3:$B$31,宛名表!$E$3:$E$31))","v":""},null,null,null,null,null,null,{"$f":"IF(V4=\"\",\"\",LOOKUP(V4,宛名表!$B$3:$B$31,宛名表!$E$3:$E$31))","v":""},null,null,null,null,null,null,null,3,null,9]
[null,null,null,null,null,null,null,null,null,null,null,null,null,null,null,null,null,null,4,null,10]
[null,null,null,{"$f":"IF($T4=\"\",\"\",LOOKUP($T4,宛名表!$B$3:$B$131,宛名表!$C$3:$C$131))","v":""},null,null,{"$f":"IF($T4=\"\",\"\",LOOKUP($T4,宛名表!$B$3:$B$131,宛名表!$H$3:$H$131))","v":""},null,null,null,{"$f":"IF(V4=\"\",\"\",LOOKUP(V4,宛名表!$B$3:$B$131,宛名表!$C$3:$C$131))","v":""},null,null,{"$f":"IF(V4=\"\",\"\",LOOKUP(V4,宛名表!$B$3:$B$131,宛名表!$H$3:$H$131))","v":""},null,null,null,null,5,null,11]
[null,null,null,null,null,null,null,null,null,null,null,null,null,null,null,null,null,null,6,null,12]
[]
[]
[null,null,null,{"$f":"IF(E12=\"\",\"\",\"〒\")","v":""},{"$f":"IF($T5=\"\",\"\",LOOKUP($T5,宛名表!$B$3:$B$131,宛名表!$F$3:$F$131))","v":""},null,null,null,null,null,{"$f":"IF(L12=\"\",\"\",\"〒\")","v":""},{"$f":"IF(V5=\"\",\"\",LOOKUP(V5,宛名表!$B$3:$B$131,宛名表!$F$3:$F$131))","v":""}]
[null,null,null,{"$f":"IF($T5=\"\",\"\",LOOKUP($T5,宛名表!$B$3:$B$131,宛名表!$D$3:$D$131))","v":""},null,null,null,null,null,null,{"$f":"IF($V5=\"\",\"\",LOOKUP($V5,宛名表!$B$3:$B$131,宛名表!$D$3:$D$131))","v":""}]
[null,null,null,{"$f":"IF($T5=\"\",\"\",LOOKUP($T5,宛名表!$B$3:$B$31,宛名表!$E$3:$E$31))","v":""},null,null,null,null,null,null,{"$f":"IF($V5=\"\",\"\",LOOKUP($V5,宛名表!$B$3:$B$31,宛名表!$E$3:$E$31))","v":""}]
[]
[null,null,null,{"$f":"IF($T5=\"\",\"\",LOOKUP($T5,宛名表!$B$3:$B$131,宛名表!$C$3:$C$131))","v":""},null,null,{"$f":"IF($T5=\"\",\"\",LOOKUP($T5,宛名表!$B$3:$B$131,宛名表!$H$3:$H$131))","v":""},null,null,null,{"$f":"IF($V5=\"\",\"\",LOOKUP($V5,宛名表!$B$3:$B$131,宛名表!$C$3:$C$131))","v":""},null,null,{"$f":"IF($V5=\"\",\"\",LOOKUP($V5,宛名表!$B$3:$B$131,宛名表!$H$3:$H$131))","v":""}]
[]
[]
[null,null,null,{"$f":"IF(E19=\"\",\"\",\"〒\")","v":""},{"$f":"IF($T6=\"\",\"\",LOOKUP($T6,宛名表!$B$3:$B$131,宛名表!$F$3:$F$131))","v":""},null,null,null,null,null,{"$f":"IF(L19=\"\",\"\",\"〒\")","v":""},{"$f":"IF($V6=\"\",\"\",LOOKUP($V6,宛名表!$B$3:$B$131,宛名表!$F$3:$F$131))","v":""}]
[null,null,null,{"$f":"IF($T6=\"\",\"\",LOOKUP($T6,宛名表!$B$3:$B$131,宛名表!$D$3:$D$131))","v":""},null,null,null,null,null,null,{"$f":"IF($V6=\"\",\"\",LOOKUP($V6,宛名表!$B$3:$B$131,宛名表!$D$3:$D$131))","v":""}]
[null,null,null,{"$f":"IF($T6=\"\",\"\",LOOKUP($T6,宛名表!$B$3:$B$31,宛名表!$E$3:$E$31))","v":""},null,null,null,null,null,null,{"$f":"IF($V6=\"\",\"\",LOOKUP($V6,宛名表!$B$3:$B$31,宛名表!$E$3:$E$31))","v":""}]
[]
[null,null,null,{"$f":"IF($T6=\"\",\"\",LOOKUP($T6,宛名表!$B$3:$B$131,宛名表!$C$3:$C$131))","v":""},null,null,{"$f":"IF($T6=\"\",\"\",LOOKUP($T6,宛名表!$B$3:$B$131,宛名表!$H$3:$H$131))","v":""},null,null,null,{"$f":"IF($V6=\"\",\"\",LOOKUP($V6,宛名表!$B$3:$B$131,宛名表!$C$3:$C$131))","v":""},null,null,{"$f":"IF($V6=\"\",\"\",LOOKUP($V6,宛名表!$B$3:$B$131,宛名表!$H$3:$H$131))","v":""}]
[]
[]
[null,null,null,{"$f":"IF(E26=\"\",\"\",\"〒\")","v":""},{"$f":"IF($T7=\"\",\"\",LOOKUP($T7,宛名表!$B$3:$B$131,宛名表!$F$3:$F$131))","v":""},null,null,null,null,null,{"$f":"IF(L26=\"\",\"\",\"〒\")","v":""},{"$f":"IF($V7=\"\",\"\",LOOKUP($V7,宛名表!$B$3:$B$131,宛名表!$F$3:$F$131))","v":""}]
[null,null,null,{"$f":"IF($T7=\"\",\"\",LOOKUP($T7,宛名表!$B$3:$B$131,宛名表!$D$3:$D$131))","v":""},null,null,null,null,null,null,{"$f":"IF($V7=\"\",\"\",LOOKUP($V7,宛名表!$B$3:$B$131,宛名表!$D$3:$D$131))","v":""}]
[null,null,null,{"$f":"IF($T7=\"\",\"\",LOOKUP($T7,宛名表!$B$3:$B$31,宛名表!$E$3:$E$31))","v":""},null,null,null,null,null,null,{"$f":"IF($V7=\"\",\"\",LOOKUP($V7,宛名表!$B$3:$B$31,宛名表!$E$3:$E$31))","v":""}]
[]
[null,null,null,{"$f":"IF($T7=\"\",\"\",LOOKUP($T7,宛名表!$B$3:$B$131,宛名表!$C$3:$C$131))","v":""},null,null,{"$f":"IF($T7=\"\",\"\",LOOKUP($T7,宛名表!$B$3:$B$131,宛名表!$H$3:$H$131))","v":""},null,null,null,{"$f":"IF($V7=\"\",\"\",LOOKUP($V7,宛名表!$B$3:$B$131,宛名表!$C$3:$C$131))","v":""},null,null,{"$f":"IF($V7=\"\",\"\",LOOKUP($V7,宛名表!$B$3:$B$131,宛名表!$H$3:$H$131))","v":""}]
[]
[]
[null,null,null,{"$f":"IF(E33=\"\",\"\",\"〒\")","v":""},{"$f":"IF($T8=\"\",\"\",LOOKUP($T8,宛名表!$B$3:$B$131,宛名表!$F$3:$F$131))","v":""},null,null,null,null,null,{"$f":"IF(L33=\"\",\"\",\"〒\")","v":""},{"$f":"IF($V8=\"\",\"\",LOOKUP($V8,宛名表!$B$3:$B$131,宛名表!$F$3:$F$131))","v":""}]
[null,null,null,{"$f":"IF($T8=\"\",\"\",LOOKUP($T8,宛名表!$B$3:$B$131,宛名表!$D$3:$D$131))","v":""},null,null,null,null,null,null,{"$f":"IF($V8=\"\",\"\",LOOKUP($V8,宛名表!$B$3:$B$131,宛名表!$D$3:$D$131))","v":""}]
[null,null,null,{"$f":"IF($T8=\"\",\"\",LOOKUP($T8,宛名表!$B$3:$B$31,宛名表!$E$3:$E$31))","v":""},null,null,null,null,null,null,{"$f":"IF($V8=\"\",\"\",LOOKUP($V8,宛名表!$B$3:$B$31,宛名表!$E$3:$E$31))","v":""}]
[]
[null,null,null,{"$f":"IF($T8=\"\",\"\",LOOKUP($T8,宛名表!$B$3:$B$131,宛名表!$C$3:$C$131))","v":""},null,null,{"$f":"IF($T8=\"\",\"\",LOOKUP($T8,宛名表!$B$3:$B$131,宛名表!$H$3:$H$131))","v":""},null,null,null,{"$f":"IF($V8=\"\",\"\",LOOKUP($V8,宛名表!$B$3:$B$131,宛名表!$C$3:$C$131))","v":""},null,null,{"$f":"IF($V8=\"\",\"\",LOOKUP($V8,宛名表!$B$3:$B$131,宛名表!$H$3:$H$131))","v":""}]
[]
[]
[null,null,null,{"$f":"IF(E40=\"\",\"\",\"〒\")","v":""},{"$f":"IF($T9=\"\",\"\",LOOKUP($T9,宛名表!$B$3:$B$131,宛名表!$F$3:$F$131))","v":""},null,null,null,null,null,{"$f":"IF(L40=\"\",\"\",\"〒\")","v":""},{"$f":"IF($V9=\"\",\"\",LOOKUP($V9,宛名表!$B$3:$B$131,宛名表!$F$3:$F$131))","v":""}]
[null,null,null,{"$f":"IF($T9=\"\",\"\",LOOKUP($T9,宛名表!$B$3:$B$131,宛名表!$D$3:$D$131))","v":""},null,null,null,null,null,null,{"$f":"IF($V9=\"\",\"\",LOOKUP($V9,宛名表!$B$3:$B$131,宛名表!$D$3:$D$131))","v":""}]
[null,null,null,{"$f":"IF($T9=\"\",\"\",LOOKUP($T9,宛名表!$B$3:$B$31,宛名表!$E$3:$E$31))","v":""},null,null,null,null,null,null,{"$f":"IF($V9=\"\",\"\",LOOKUP($V9,宛名表!$B$3:$B$31,宛名表!$E$3:$E$31))","v":""}]
[]
[null,null,null,{"$f":"IF($T9=\"\",\"\",LOOKUP($T9,宛名表!$B$3:$B$131,宛名表!$C$3:$C$131))","v":""},null,null,{"$f":"IF($T9=\"\",\"\",LOOKUP($T9,宛名表!$B$3:$B$131,宛名表!$H$3:$H$131))","v":""},null,null,null,{"$f":"IF($V9=\"\",\"\",LOOKUP($V9,宛名表!$B$3:$B$131,宛名表!$C$3:$C$131))","v":""},null,null,{"$f":"IF($V9=\"\",\"\",LOOKUP($V9,宛名表!$B$3:$B$131,宛名表!$H$3:$H$131))","v":""}]

{"sheet":"郵便振替","index":4,"n_rows":38,"n_cols":49,"rows_kept":38,"cut":false,"hidden":false,"merged":[[8,2,13,2],[5,27,6,27],[4,17,5,17],[4,2,4,9],[4,10,4,16],[6,2,7,2],[6,17,7,17],[6,4,7,16],[6,22,7,25],[6,21,7,21],[6,18,7,20],[6,33,6,34],[10,33,10,34],[10,35,10,36],[5,34,5,35],[5,36,5,37],[7,28,8,37],[6,35,6,36],[6,28,6,29],[9,35,9,36],[14,2,18,2],[12,27,15,27],[9,27,10,27],[9,33,9,34],[7,27,8,27],[14,21,19,25],[14,20,19,20],[10,4,10,19],[8,4,8,20],[11,28,12,37],[11,4,11,19],[15,5,16,16],[17,8,17,17],[12,4,12,19],[13,28,15,37],[13,8,13,18]]}
[]
[]
[]
[]
[]
[null,null,null,null,null,null,null,null,null,null,null,null,null,null,null,null,null,null,{"$f":"AW38","v":"1"},{"$f":"AW37","v":"2"},{"$f":"AW36","v":"3"},{"$f":"AW35","v":"4"},{"$f":"AW34","v":"5"},{"$f":"AW33","v":"6"},{"$f":"AW32","v":"7"},{"$f":"AW31","v":"8"},null,null,{"$f":"IF(C6=\"\",\"\",C6)","v":""},{"$f":"IF(D6=\"\",\"\",D6)","v":""},{"$f":"IF(E6=\"\",\"\",E6)","v":""},{"$f":"IF(F6=\"\",\"\",F6)","v":""},{"$f":"IF(G6=\"\",\"\",G6)","v":""},null,{"$f":"IF(I6=\"\",\"\",I6)","v":""},null,null,null,null,null,null,null,"金額",12345678]
[null,null,null,null,null,null,null,null,null,null,null,null,null,null,null,null,null,null,null,null,null,null,null,null,null,null,null,null,null,null,{"$f":"IF(L6=\"\",\"\",L6)","v":""},{"$f":"IF(M6=\"\",\"\",M6)","v":""},{"$f":"IF(N6=\"\",\"\",N6)","v":""},{"$f":"IF(O6=\"\",\"\",O6)","v":""},null,{"$f":"IF(P6=\"\",\"\",P6)","v":""},null,{"$f":"IF(Q6=\"\",\"\",Q6)","v":""}]
[null,null,null,null,null,null,null,null,null,null,null,null,null,null,null,null,null,null,null,null,null,null,null,null,null,null,null,null,{"$f":"IF(E7=\"\",\"\",E7)","v":""}]
[]
[]
[null,null,null,null,null,null,null,null,null,null,null,null,null,null,null,null,null,null,null,null,null,null,null,null,null,null,null,null,{"$f":"IF(S6=\"\",\"\",S6)","v":"1"},"2","3","4","5","6",null,{"$f":"IF(Y6=\"\",\"\",Y6)","v":"7"},null,{"$f":"IF(Z6=\"\",\"\",Z6)","v":"8"},null,null,null,null,"CD入力",31]
[null,null,null,null,{"$f":"IF(AR11=\"\",\"\",VLOOKUP(AR11,宛名表!B3:H136,5,0))","v":"035-0053"},null,null,null,null,null,null,null,null,null,null,null,null,null,null,null,null,null,null,null,null,null,null,null,{"$f":"IF(AR11=\"\",\"\",VLOOKUP(AR11,宛名表!B3:H136,3,0))","v":"むつ市みどり町18-55"}]
[null,null,null,null,{"$f":"IF(AR11=\"\",\"\",VLOOKUP(AR11,宛名表!B3:H136,3,0))","v":"むつ市みどり町18-55"}]
[null,null,null,null,null,null,null,null,{"$f":"VLOOKUP(AR11,宛名表!B3:H131,4,0)","v":0},null,null,null,null,null,null,null,null,null,null,null,null,null,null,null,null,null,null,null,{"$f":"IF(AR11=\"\",\"\",VLOOKUP(AR11,宛名表!B3:H136,2,0))","v":"佐々木博盛堂　"}]
[]
[null,null,null,null,null,{"$f":"IF(AR11=\"\",\"\",VLOOKUP(AR11,宛名表!B3:H136,2,0))","v":"佐々木博盛堂　"}]
[]
[null,null,null,null,null,null,null,null,{"$f":"IF(AR11=\"\",\"\",VLOOKUP(AR11,宛名表!B3:H136,6,0))","v":"0175-22-1677"}]
[]
[]
[]
[]
[]
[]
[]
[]
[]
[]
[null,null,null,null,null,null,null,null,null,null,null,null,null,null,null,null,null,null,null,null,null,null,null,null,null,null,null,null,null,null,null,null,null,null,null,null,null,null,null,null,null,null,null,null,null,null,"金額桁数計算",{"$f":"LEN(AR6)","v":8}]
[]
[null,null,null,null,null,null,null,null,null,null,null,null,null,null,null,null,null,null,null,null,null,null,null,null,null,null,null,null,null,null,null,null,null,null,null,null,null,null,null,null,null,null,null,null,null,null,"円",{"$f":"RIGHT($AR$6,1)","v":"8"},{"$f":"LEFT(AV31)","v":"8"}]
[null,null,null,null,null,null,null,null,null,null,null,null,null,null,null,null,null,null,null,null,null,null,null,null,null,null,null,null,null,null,null,null,null,null,null,null,null,null,null,null,null,null,null,null,null,null,"十",{"$f":"IF($AV$29<2,\"\",RIGHT($AR$6,2))","v":"78"},{"$f":"LEFT(AV32)","v":"7"}]
[null,null,null,null,null,null,null,null,null,null,null,null,null,null,null,null,null,null,null,null,null,null,null,null,null,null,null,null,null,null,null,null,null,null,null,null,null,null,null,null,null,null,null,null,null,null,"百",{"$f":"IF($AV$29<3,\"\",RIGHT($AR$6,3))","v":"678"},"6"]
[null,null,null,null,null,null,null,null,null,null,null,null,null,null,null,null,null,null,null,null,null,null,null,null,null,null,null,null,null,null,null,null,null,null,null,null,null,null,null,null,null,null,null,null,null,null,"千",{"$f":"IF($AV$29<4,\"\",RIGHT($AR$6,4))","v":"5678"},"5"]
[null,null,null,null,null,null,null,null,null,null,null,null,null,null,null,null,null,null,null,null,null,null,null,null,null,null,null,null,null,null,null,null,null,null,null,null,null,null,null,null,null,null,null,null,null,null,"万",{"$f":"IF($AV$29<5,\"\",RIGHT($AR$6,5))","v":"45678"},"4"]
[null,null,null,null,null,null,null,null,null,null,null,null,null,null,null,null,null,null,null,null,null,null,null,null,null,null,null,null,null,null,null,null,null,null,null,null,null,null,null,null,null,null,null,null,null,null,"十万",{"$f":"IF($AV$29<6,\"\",RIGHT($AR$6,6))","v":"345678"},"3"]
[null,null,null,null,null,null,null,null,null,null,null,null,null,null,null,null,null,null,null,null,null,null,null,null,null,null,null,null,null,null,null,null,null,null,null,null,null,null,null,null,null,null,null,null,null,null,"百万",{"$f":"IF($AV$29<7,\"\",RIGHT($AR$6,7))","v":"2345678"},"2"]
[null,null,null,null,null,null,null,null,null,null,null,null,null,null,null,null,null,null,null,null,null,null,null,null,null,null,null,null,null,null,null,null,null,null,null,null,null,null,null,null,null,null,null,null,null,null,"千万",{"$f":"IF($AV$29<8,\"\",RIGHT($AR$6,8))","v":"12345678"},"1"]

{"sheet":"封筒封筒","index":5,"n_rows":14,"n_cols":15,"rows_kept":14,"cut":false,"hidden":false,"merged":[[9,4,9,6],[10,3,10,9],[13,3,13,7],[11,3,11,8]]}
[]
[]
[]
[]
[]
[null,null,null,null,null,null,null,null,null,null,null,null,null,"CD",31]
[]
[]
[]
[null,null,null,"〒",{"$f":"LOOKUP(O6,宛名表!B3:B131,宛名表!F3:F131)","v":"035-0053"}]
[null,null,null,{"$f":"LOOKUP(O6,宛名表!B3:B131,宛名表!D3:D131)","v":"むつ市みどり町18-55"}]
[null,null,null,{"$f":"LOOKUP(O6,宛名表!B3:B131,宛名表!E3:E131)","v":0}]
[]
[null,null,null,{"$f":"LOOKUP(O6,宛名表!B3:B131,宛名表!C3:C131)","v":"佐々木博盛堂　"},null,null,null,null,{"$f":"LOOKUP(O6,宛名表!B3:B131,宛名表!H3:H131)","v":"御中"}]